BEGIN:VCALENDAR
VERSION:2.0
PRODID:-//K. Pacho | Mexican Restaurant &amp; Catering Venue in New Hyde Park, Long Island - ECPv6.15.20//NONSGML v1.0//EN
CALSCALE:GREGORIAN
METHOD:PUBLISH
X-ORIGINAL-URL:https://www.kpacho.com
X-WR-CALDESC:Events for K. Pacho | Mexican Restaurant &amp; Catering Venue in New Hyde Park, Long Island
REFRESH-INTERVAL;VALUE=DURATION:PT1H
X-Robots-Tag:noindex
X-PUBLISHED-TTL:PT1H
BEGIN:VTIMEZONE
TZID:America/New_York
BEGIN:DAYLIGHT
TZOFFSETFROM:-0500
TZOFFSETTO:-0400
TZNAME:EDT
DTSTART:20260308T070000
END:DAYLIGHT
BEGIN:STANDARD
TZOFFSETFROM:-0400
TZOFFSETTO:-0500
TZNAME:EST
DTSTART:20261101T060000
END:STANDARD
BEGIN:DAYLIGHT
TZOFFSETFROM:-0500
TZOFFSETTO:-0400
TZNAME:EDT
DTSTART:20270314T070000
END:DAYLIGHT
BEGIN:STANDARD
TZOFFSETFROM:-0400
TZOFFSETTO:-0500
TZNAME:EST
DTSTART:20271107T060000
END:STANDARD
BEGIN:DAYLIGHT
TZOFFSETFROM:-0500
TZOFFSETTO:-0400
TZNAME:EDT
DTSTART:20280312T070000
END:DAYLIGHT
BEGIN:STANDARD
TZOFFSETFROM:-0400
TZOFFSETTO:-0500
TZNAME:EST
DTSTART:20281105T060000
END:STANDARD
END:VTIMEZONE
BEGIN:VEVENT
DTSTART;TZID=America/New_York:20270919T120000
DTEND;TZID=America/New_York:20270919T160000
DTSTAMP:20260420T040745
CREATED:20250304T010014Z
LAST-MODIFIED:20250902T150143Z
UID:30001118-1821355200-1821369600@www.kpacho.com
SUMMARY:Spanglish Sundays A Brunch Fiesta at K. Pacho
DESCRIPTION:
URL:https://www.kpacho.com/event/spanglish-sundays-a-brunch-fiesta-at-k-pacho/2027-09-19/
LOCATION:K. Pacho\, 1270 Union Turnpike\, New Hyde Park\, NY\, 11040\, United States
CATEGORIES:Weekly
ATTACH;FMTTYPE=image/jpeg:https://www.kpacho.com/wp-content/uploads/2025/03/1159d8f7-fd78-44d5-95e2-8dc9a1679b7a.jpg
GEO:40.7529;-73.6993
X-APPLE-STRUCTURED-LOCATION;VALUE=URI;X-ADDRESS=K. Pacho 1270 Union Turnpike New Hyde Park NY 11040 United States;X-APPLE-RADIUS=500;X-TITLE=1270 Union Turnpike:geo:-73.6993,40.7529
END:VEVENT
BEGIN:VEVENT
DTSTART;TZID=America/New_York:20270924T150000
DTEND;TZID=America/New_York:20270924T180000
DTSTAMP:20260420T040745
CREATED:20250827T230335Z
LAST-MODIFIED:20250916T234546Z
UID:30004199-1821798000-1821808800@www.kpacho.com
SUMMARY:K.Vida Loca at K. Pacho Every Friday
DESCRIPTION:
URL:https://www.kpacho.com/event/k-vida-loca-at-k-pacho-every-friday/2027-09-24/
LOCATION:K. Pacho\, 1270 Union Turnpike\, New Hyde Park\, NY\, 11040\, United States
CATEGORIES:Weekly
ATTACH;FMTTYPE=image/jpeg:https://www.kpacho.com/wp-content/uploads/2025/08/WhatsApp-Image-2025-08-27-at-14.47.58.jpeg
GEO:40.7529;-73.6993
X-APPLE-STRUCTURED-LOCATION;VALUE=URI;X-ADDRESS=K. Pacho 1270 Union Turnpike New Hyde Park NY 11040 United States;X-APPLE-RADIUS=500;X-TITLE=1270 Union Turnpike:geo:-73.6993,40.7529
END:VEVENT
BEGIN:VEVENT
DTSTART;TZID=America/New_York:20270926T120000
DTEND;TZID=America/New_York:20270926T160000
DTSTAMP:20260420T040745
CREATED:20250304T010014Z
LAST-MODIFIED:20250902T150143Z
UID:30001119-1821960000-1821974400@www.kpacho.com
SUMMARY:Spanglish Sundays A Brunch Fiesta at K. Pacho
DESCRIPTION:
URL:https://www.kpacho.com/event/spanglish-sundays-a-brunch-fiesta-at-k-pacho/2027-09-26/
LOCATION:K. Pacho\, 1270 Union Turnpike\, New Hyde Park\, NY\, 11040\, United States
CATEGORIES:Weekly
ATTACH;FMTTYPE=image/jpeg:https://www.kpacho.com/wp-content/uploads/2025/03/1159d8f7-fd78-44d5-95e2-8dc9a1679b7a.jpg
GEO:40.7529;-73.6993
X-APPLE-STRUCTURED-LOCATION;VALUE=URI;X-ADDRESS=K. Pacho 1270 Union Turnpike New Hyde Park NY 11040 United States;X-APPLE-RADIUS=500;X-TITLE=1270 Union Turnpike:geo:-73.6993,40.7529
END:VEVENT
BEGIN:VEVENT
DTSTART;TZID=America/New_York:20271001T150000
DTEND;TZID=America/New_York:20271001T180000
DTSTAMP:20260420T040745
CREATED:20250827T230335Z
LAST-MODIFIED:20250916T234546Z
UID:30004200-1822402800-1822413600@www.kpacho.com
SUMMARY:K.Vida Loca at K. Pacho Every Friday
DESCRIPTION:
URL:https://www.kpacho.com/event/k-vida-loca-at-k-pacho-every-friday/2027-10-01/
LOCATION:K. Pacho\, 1270 Union Turnpike\, New Hyde Park\, NY\, 11040\, United States
CATEGORIES:Weekly
ATTACH;FMTTYPE=image/jpeg:https://www.kpacho.com/wp-content/uploads/2025/08/WhatsApp-Image-2025-08-27-at-14.47.58.jpeg
GEO:40.7529;-73.6993
X-APPLE-STRUCTURED-LOCATION;VALUE=URI;X-ADDRESS=K. Pacho 1270 Union Turnpike New Hyde Park NY 11040 United States;X-APPLE-RADIUS=500;X-TITLE=1270 Union Turnpike:geo:-73.6993,40.7529
END:VEVENT
BEGIN:VEVENT
DTSTART;TZID=America/New_York:20271003T120000
DTEND;TZID=America/New_York:20271003T160000
DTSTAMP:20260420T040745
CREATED:20250304T010014Z
LAST-MODIFIED:20250902T150143Z
UID:30001120-1822564800-1822579200@www.kpacho.com
SUMMARY:Spanglish Sundays A Brunch Fiesta at K. Pacho
DESCRIPTION:
URL:https://www.kpacho.com/event/spanglish-sundays-a-brunch-fiesta-at-k-pacho/2027-10-03/
LOCATION:K. Pacho\, 1270 Union Turnpike\, New Hyde Park\, NY\, 11040\, United States
CATEGORIES:Weekly
ATTACH;FMTTYPE=image/jpeg:https://www.kpacho.com/wp-content/uploads/2025/03/1159d8f7-fd78-44d5-95e2-8dc9a1679b7a.jpg
GEO:40.7529;-73.6993
X-APPLE-STRUCTURED-LOCATION;VALUE=URI;X-ADDRESS=K. Pacho 1270 Union Turnpike New Hyde Park NY 11040 United States;X-APPLE-RADIUS=500;X-TITLE=1270 Union Turnpike:geo:-73.6993,40.7529
END:VEVENT
BEGIN:VEVENT
DTSTART;TZID=America/New_York:20271008T150000
DTEND;TZID=America/New_York:20271008T180000
DTSTAMP:20260420T040745
CREATED:20250827T230335Z
LAST-MODIFIED:20250916T234546Z
UID:30004201-1823007600-1823018400@www.kpacho.com
SUMMARY:K.Vida Loca at K. Pacho Every Friday
DESCRIPTION:
URL:https://www.kpacho.com/event/k-vida-loca-at-k-pacho-every-friday/2027-10-08/
LOCATION:K. Pacho\, 1270 Union Turnpike\, New Hyde Park\, NY\, 11040\, United States
CATEGORIES:Weekly
ATTACH;FMTTYPE=image/jpeg:https://www.kpacho.com/wp-content/uploads/2025/08/WhatsApp-Image-2025-08-27-at-14.47.58.jpeg
GEO:40.7529;-73.6993
X-APPLE-STRUCTURED-LOCATION;VALUE=URI;X-ADDRESS=K. Pacho 1270 Union Turnpike New Hyde Park NY 11040 United States;X-APPLE-RADIUS=500;X-TITLE=1270 Union Turnpike:geo:-73.6993,40.7529
END:VEVENT
BEGIN:VEVENT
DTSTART;TZID=America/New_York:20271010T120000
DTEND;TZID=America/New_York:20271010T160000
DTSTAMP:20260420T040745
CREATED:20250304T010014Z
LAST-MODIFIED:20250902T150143Z
UID:30001121-1823169600-1823184000@www.kpacho.com
SUMMARY:Spanglish Sundays A Brunch Fiesta at K. Pacho
DESCRIPTION:
URL:https://www.kpacho.com/event/spanglish-sundays-a-brunch-fiesta-at-k-pacho/2027-10-10/
LOCATION:K. Pacho\, 1270 Union Turnpike\, New Hyde Park\, NY\, 11040\, United States
CATEGORIES:Weekly
ATTACH;FMTTYPE=image/jpeg:https://www.kpacho.com/wp-content/uploads/2025/03/1159d8f7-fd78-44d5-95e2-8dc9a1679b7a.jpg
GEO:40.7529;-73.6993
X-APPLE-STRUCTURED-LOCATION;VALUE=URI;X-ADDRESS=K. Pacho 1270 Union Turnpike New Hyde Park NY 11040 United States;X-APPLE-RADIUS=500;X-TITLE=1270 Union Turnpike:geo:-73.6993,40.7529
END:VEVENT
BEGIN:VEVENT
DTSTART;TZID=America/New_York:20271015T150000
DTEND;TZID=America/New_York:20271015T180000
DTSTAMP:20260420T040745
CREATED:20250827T230335Z
LAST-MODIFIED:20250916T234546Z
UID:30004202-1823612400-1823623200@www.kpacho.com
SUMMARY:K.Vida Loca at K. Pacho Every Friday
DESCRIPTION:
URL:https://www.kpacho.com/event/k-vida-loca-at-k-pacho-every-friday/2027-10-15/
LOCATION:K. Pacho\, 1270 Union Turnpike\, New Hyde Park\, NY\, 11040\, United States
CATEGORIES:Weekly
ATTACH;FMTTYPE=image/jpeg:https://www.kpacho.com/wp-content/uploads/2025/08/WhatsApp-Image-2025-08-27-at-14.47.58.jpeg
GEO:40.7529;-73.6993
X-APPLE-STRUCTURED-LOCATION;VALUE=URI;X-ADDRESS=K. Pacho 1270 Union Turnpike New Hyde Park NY 11040 United States;X-APPLE-RADIUS=500;X-TITLE=1270 Union Turnpike:geo:-73.6993,40.7529
END:VEVENT
BEGIN:VEVENT
DTSTART;TZID=America/New_York:20271017T120000
DTEND;TZID=America/New_York:20271017T160000
DTSTAMP:20260420T040745
CREATED:20250304T010014Z
LAST-MODIFIED:20250902T150143Z
UID:30001122-1823774400-1823788800@www.kpacho.com
SUMMARY:Spanglish Sundays A Brunch Fiesta at K. Pacho
DESCRIPTION:
URL:https://www.kpacho.com/event/spanglish-sundays-a-brunch-fiesta-at-k-pacho/2027-10-17/
LOCATION:K. Pacho\, 1270 Union Turnpike\, New Hyde Park\, NY\, 11040\, United States
CATEGORIES:Weekly
ATTACH;FMTTYPE=image/jpeg:https://www.kpacho.com/wp-content/uploads/2025/03/1159d8f7-fd78-44d5-95e2-8dc9a1679b7a.jpg
GEO:40.7529;-73.6993
X-APPLE-STRUCTURED-LOCATION;VALUE=URI;X-ADDRESS=K. Pacho 1270 Union Turnpike New Hyde Park NY 11040 United States;X-APPLE-RADIUS=500;X-TITLE=1270 Union Turnpike:geo:-73.6993,40.7529
END:VEVENT
BEGIN:VEVENT
DTSTART;TZID=America/New_York:20271022T150000
DTEND;TZID=America/New_York:20271022T180000
DTSTAMP:20260420T040745
CREATED:20250827T230335Z
LAST-MODIFIED:20250916T234546Z
UID:30004203-1824217200-1824228000@www.kpacho.com
SUMMARY:K.Vida Loca at K. Pacho Every Friday
DESCRIPTION:
URL:https://www.kpacho.com/event/k-vida-loca-at-k-pacho-every-friday/2027-10-22/
LOCATION:K. Pacho\, 1270 Union Turnpike\, New Hyde Park\, NY\, 11040\, United States
CATEGORIES:Weekly
ATTACH;FMTTYPE=image/jpeg:https://www.kpacho.com/wp-content/uploads/2025/08/WhatsApp-Image-2025-08-27-at-14.47.58.jpeg
GEO:40.7529;-73.6993
X-APPLE-STRUCTURED-LOCATION;VALUE=URI;X-ADDRESS=K. Pacho 1270 Union Turnpike New Hyde Park NY 11040 United States;X-APPLE-RADIUS=500;X-TITLE=1270 Union Turnpike:geo:-73.6993,40.7529
END:VEVENT
BEGIN:VEVENT
DTSTART;TZID=America/New_York:20271024T120000
DTEND;TZID=America/New_York:20271024T160000
DTSTAMP:20260420T040745
CREATED:20250304T010014Z
LAST-MODIFIED:20250902T150143Z
UID:30001123-1824379200-1824393600@www.kpacho.com
SUMMARY:Spanglish Sundays A Brunch Fiesta at K. Pacho
DESCRIPTION:
URL:https://www.kpacho.com/event/spanglish-sundays-a-brunch-fiesta-at-k-pacho/2027-10-24/
LOCATION:K. Pacho\, 1270 Union Turnpike\, New Hyde Park\, NY\, 11040\, United States
CATEGORIES:Weekly
ATTACH;FMTTYPE=image/jpeg:https://www.kpacho.com/wp-content/uploads/2025/03/1159d8f7-fd78-44d5-95e2-8dc9a1679b7a.jpg
GEO:40.7529;-73.6993
X-APPLE-STRUCTURED-LOCATION;VALUE=URI;X-ADDRESS=K. Pacho 1270 Union Turnpike New Hyde Park NY 11040 United States;X-APPLE-RADIUS=500;X-TITLE=1270 Union Turnpike:geo:-73.6993,40.7529
END:VEVENT
BEGIN:VEVENT
DTSTART;TZID=America/New_York:20271029T150000
DTEND;TZID=America/New_York:20271029T180000
DTSTAMP:20260420T040745
CREATED:20250827T230335Z
LAST-MODIFIED:20250916T234546Z
UID:30004204-1824822000-1824832800@www.kpacho.com
SUMMARY:K.Vida Loca at K. Pacho Every Friday
DESCRIPTION:
URL:https://www.kpacho.com/event/k-vida-loca-at-k-pacho-every-friday/2027-10-29/
LOCATION:K. Pacho\, 1270 Union Turnpike\, New Hyde Park\, NY\, 11040\, United States
CATEGORIES:Weekly
ATTACH;FMTTYPE=image/jpeg:https://www.kpacho.com/wp-content/uploads/2025/08/WhatsApp-Image-2025-08-27-at-14.47.58.jpeg
GEO:40.7529;-73.6993
X-APPLE-STRUCTURED-LOCATION;VALUE=URI;X-ADDRESS=K. Pacho 1270 Union Turnpike New Hyde Park NY 11040 United States;X-APPLE-RADIUS=500;X-TITLE=1270 Union Turnpike:geo:-73.6993,40.7529
END:VEVENT
BEGIN:VEVENT
DTSTART;TZID=America/New_York:20271031T120000
DTEND;TZID=America/New_York:20271031T160000
DTSTAMP:20260420T040745
CREATED:20250304T010014Z
LAST-MODIFIED:20250902T150143Z
UID:30001124-1824984000-1824998400@www.kpacho.com
SUMMARY:Spanglish Sundays A Brunch Fiesta at K. Pacho
DESCRIPTION:
URL:https://www.kpacho.com/event/spanglish-sundays-a-brunch-fiesta-at-k-pacho/2027-10-31/
LOCATION:K. Pacho\, 1270 Union Turnpike\, New Hyde Park\, NY\, 11040\, United States
CATEGORIES:Weekly
ATTACH;FMTTYPE=image/jpeg:https://www.kpacho.com/wp-content/uploads/2025/03/1159d8f7-fd78-44d5-95e2-8dc9a1679b7a.jpg
GEO:40.7529;-73.6993
X-APPLE-STRUCTURED-LOCATION;VALUE=URI;X-ADDRESS=K. Pacho 1270 Union Turnpike New Hyde Park NY 11040 United States;X-APPLE-RADIUS=500;X-TITLE=1270 Union Turnpike:geo:-73.6993,40.7529
END:VEVENT
BEGIN:VEVENT
DTSTART;TZID=America/New_York:20271105T150000
DTEND;TZID=America/New_York:20271105T180000
DTSTAMP:20260420T040745
CREATED:20250827T230335Z
LAST-MODIFIED:20250916T234546Z
UID:30004205-1825426800-1825437600@www.kpacho.com
SUMMARY:K.Vida Loca at K. Pacho Every Friday
DESCRIPTION:
URL:https://www.kpacho.com/event/k-vida-loca-at-k-pacho-every-friday/2027-11-05/
LOCATION:K. Pacho\, 1270 Union Turnpike\, New Hyde Park\, NY\, 11040\, United States
CATEGORIES:Weekly
ATTACH;FMTTYPE=image/jpeg:https://www.kpacho.com/wp-content/uploads/2025/08/WhatsApp-Image-2025-08-27-at-14.47.58.jpeg
GEO:40.7529;-73.6993
X-APPLE-STRUCTURED-LOCATION;VALUE=URI;X-ADDRESS=K. Pacho 1270 Union Turnpike New Hyde Park NY 11040 United States;X-APPLE-RADIUS=500;X-TITLE=1270 Union Turnpike:geo:-73.6993,40.7529
END:VEVENT
BEGIN:VEVENT
DTSTART;TZID=America/New_York:20271107T120000
DTEND;TZID=America/New_York:20271107T160000
DTSTAMP:20260420T040745
CREATED:20250304T010014Z
LAST-MODIFIED:20250902T150143Z
UID:30001125-1825588800-1825603200@www.kpacho.com
SUMMARY:Spanglish Sundays A Brunch Fiesta at K. Pacho
DESCRIPTION:
URL:https://www.kpacho.com/event/spanglish-sundays-a-brunch-fiesta-at-k-pacho/2027-11-07/
LOCATION:K. Pacho\, 1270 Union Turnpike\, New Hyde Park\, NY\, 11040\, United States
CATEGORIES:Weekly
ATTACH;FMTTYPE=image/jpeg:https://www.kpacho.com/wp-content/uploads/2025/03/1159d8f7-fd78-44d5-95e2-8dc9a1679b7a.jpg
GEO:40.7529;-73.6993
X-APPLE-STRUCTURED-LOCATION;VALUE=URI;X-ADDRESS=K. Pacho 1270 Union Turnpike New Hyde Park NY 11040 United States;X-APPLE-RADIUS=500;X-TITLE=1270 Union Turnpike:geo:-73.6993,40.7529
END:VEVENT
BEGIN:VEVENT
DTSTART;TZID=America/New_York:20271112T150000
DTEND;TZID=America/New_York:20271112T180000
DTSTAMP:20260420T040745
CREATED:20250827T230335Z
LAST-MODIFIED:20250916T234546Z
UID:30004206-1826031600-1826042400@www.kpacho.com
SUMMARY:K.Vida Loca at K. Pacho Every Friday
DESCRIPTION:
URL:https://www.kpacho.com/event/k-vida-loca-at-k-pacho-every-friday/2027-11-12/
LOCATION:K. Pacho\, 1270 Union Turnpike\, New Hyde Park\, NY\, 11040\, United States
CATEGORIES:Weekly
ATTACH;FMTTYPE=image/jpeg:https://www.kpacho.com/wp-content/uploads/2025/08/WhatsApp-Image-2025-08-27-at-14.47.58.jpeg
GEO:40.7529;-73.6993
X-APPLE-STRUCTURED-LOCATION;VALUE=URI;X-ADDRESS=K. Pacho 1270 Union Turnpike New Hyde Park NY 11040 United States;X-APPLE-RADIUS=500;X-TITLE=1270 Union Turnpike:geo:-73.6993,40.7529
END:VEVENT
BEGIN:VEVENT
DTSTART;TZID=America/New_York:20271114T120000
DTEND;TZID=America/New_York:20271114T160000
DTSTAMP:20260420T040745
CREATED:20250304T010014Z
LAST-MODIFIED:20250902T150143Z
UID:30001126-1826193600-1826208000@www.kpacho.com
SUMMARY:Spanglish Sundays A Brunch Fiesta at K. Pacho
DESCRIPTION:
URL:https://www.kpacho.com/event/spanglish-sundays-a-brunch-fiesta-at-k-pacho/2027-11-14/
LOCATION:K. Pacho\, 1270 Union Turnpike\, New Hyde Park\, NY\, 11040\, United States
CATEGORIES:Weekly
ATTACH;FMTTYPE=image/jpeg:https://www.kpacho.com/wp-content/uploads/2025/03/1159d8f7-fd78-44d5-95e2-8dc9a1679b7a.jpg
GEO:40.7529;-73.6993
X-APPLE-STRUCTURED-LOCATION;VALUE=URI;X-ADDRESS=K. Pacho 1270 Union Turnpike New Hyde Park NY 11040 United States;X-APPLE-RADIUS=500;X-TITLE=1270 Union Turnpike:geo:-73.6993,40.7529
END:VEVENT
BEGIN:VEVENT
DTSTART;TZID=America/New_York:20271119T150000
DTEND;TZID=America/New_York:20271119T180000
DTSTAMP:20260420T040745
CREATED:20250827T230335Z
LAST-MODIFIED:20250916T234546Z
UID:30004207-1826636400-1826647200@www.kpacho.com
SUMMARY:K.Vida Loca at K. Pacho Every Friday
DESCRIPTION:
URL:https://www.kpacho.com/event/k-vida-loca-at-k-pacho-every-friday/2027-11-19/
LOCATION:K. Pacho\, 1270 Union Turnpike\, New Hyde Park\, NY\, 11040\, United States
CATEGORIES:Weekly
ATTACH;FMTTYPE=image/jpeg:https://www.kpacho.com/wp-content/uploads/2025/08/WhatsApp-Image-2025-08-27-at-14.47.58.jpeg
GEO:40.7529;-73.6993
X-APPLE-STRUCTURED-LOCATION;VALUE=URI;X-ADDRESS=K. Pacho 1270 Union Turnpike New Hyde Park NY 11040 United States;X-APPLE-RADIUS=500;X-TITLE=1270 Union Turnpike:geo:-73.6993,40.7529
END:VEVENT
BEGIN:VEVENT
DTSTART;TZID=America/New_York:20271121T120000
DTEND;TZID=America/New_York:20271121T160000
DTSTAMP:20260420T040745
CREATED:20250304T010014Z
LAST-MODIFIED:20250902T150143Z
UID:30001127-1826798400-1826812800@www.kpacho.com
SUMMARY:Spanglish Sundays A Brunch Fiesta at K. Pacho
DESCRIPTION:
URL:https://www.kpacho.com/event/spanglish-sundays-a-brunch-fiesta-at-k-pacho/2027-11-21/
LOCATION:K. Pacho\, 1270 Union Turnpike\, New Hyde Park\, NY\, 11040\, United States
CATEGORIES:Weekly
ATTACH;FMTTYPE=image/jpeg:https://www.kpacho.com/wp-content/uploads/2025/03/1159d8f7-fd78-44d5-95e2-8dc9a1679b7a.jpg
GEO:40.7529;-73.6993
X-APPLE-STRUCTURED-LOCATION;VALUE=URI;X-ADDRESS=K. Pacho 1270 Union Turnpike New Hyde Park NY 11040 United States;X-APPLE-RADIUS=500;X-TITLE=1270 Union Turnpike:geo:-73.6993,40.7529
END:VEVENT
BEGIN:VEVENT
DTSTART;TZID=America/New_York:20271126T150000
DTEND;TZID=America/New_York:20271126T180000
DTSTAMP:20260420T040745
CREATED:20250827T230335Z
LAST-MODIFIED:20250916T234546Z
UID:30004208-1827241200-1827252000@www.kpacho.com
SUMMARY:K.Vida Loca at K. Pacho Every Friday
DESCRIPTION:
URL:https://www.kpacho.com/event/k-vida-loca-at-k-pacho-every-friday/2027-11-26/
LOCATION:K. Pacho\, 1270 Union Turnpike\, New Hyde Park\, NY\, 11040\, United States
CATEGORIES:Weekly
ATTACH;FMTTYPE=image/jpeg:https://www.kpacho.com/wp-content/uploads/2025/08/WhatsApp-Image-2025-08-27-at-14.47.58.jpeg
GEO:40.7529;-73.6993
X-APPLE-STRUCTURED-LOCATION;VALUE=URI;X-ADDRESS=K. Pacho 1270 Union Turnpike New Hyde Park NY 11040 United States;X-APPLE-RADIUS=500;X-TITLE=1270 Union Turnpike:geo:-73.6993,40.7529
END:VEVENT
BEGIN:VEVENT
DTSTART;TZID=America/New_York:20271128T120000
DTEND;TZID=America/New_York:20271128T160000
DTSTAMP:20260420T040745
CREATED:20250304T010014Z
LAST-MODIFIED:20250902T150143Z
UID:30001128-1827403200-1827417600@www.kpacho.com
SUMMARY:Spanglish Sundays A Brunch Fiesta at K. Pacho
DESCRIPTION:
URL:https://www.kpacho.com/event/spanglish-sundays-a-brunch-fiesta-at-k-pacho/2027-11-28/
LOCATION:K. Pacho\, 1270 Union Turnpike\, New Hyde Park\, NY\, 11040\, United States
CATEGORIES:Weekly
ATTACH;FMTTYPE=image/jpeg:https://www.kpacho.com/wp-content/uploads/2025/03/1159d8f7-fd78-44d5-95e2-8dc9a1679b7a.jpg
GEO:40.7529;-73.6993
X-APPLE-STRUCTURED-LOCATION;VALUE=URI;X-ADDRESS=K. Pacho 1270 Union Turnpike New Hyde Park NY 11040 United States;X-APPLE-RADIUS=500;X-TITLE=1270 Union Turnpike:geo:-73.6993,40.7529
END:VEVENT
BEGIN:VEVENT
DTSTART;TZID=America/New_York:20271203T150000
DTEND;TZID=America/New_York:20271203T180000
DTSTAMP:20260420T040745
CREATED:20250827T230335Z
LAST-MODIFIED:20250916T234546Z
UID:30004209-1827846000-1827856800@www.kpacho.com
SUMMARY:K.Vida Loca at K. Pacho Every Friday
DESCRIPTION:
URL:https://www.kpacho.com/event/k-vida-loca-at-k-pacho-every-friday/2027-12-03/
LOCATION:K. Pacho\, 1270 Union Turnpike\, New Hyde Park\, NY\, 11040\, United States
CATEGORIES:Weekly
ATTACH;FMTTYPE=image/jpeg:https://www.kpacho.com/wp-content/uploads/2025/08/WhatsApp-Image-2025-08-27-at-14.47.58.jpeg
GEO:40.7529;-73.6993
X-APPLE-STRUCTURED-LOCATION;VALUE=URI;X-ADDRESS=K. Pacho 1270 Union Turnpike New Hyde Park NY 11040 United States;X-APPLE-RADIUS=500;X-TITLE=1270 Union Turnpike:geo:-73.6993,40.7529
END:VEVENT
BEGIN:VEVENT
DTSTART;TZID=America/New_York:20271205T120000
DTEND;TZID=America/New_York:20271205T160000
DTSTAMP:20260420T040745
CREATED:20250304T010014Z
LAST-MODIFIED:20250902T150143Z
UID:30001129-1828008000-1828022400@www.kpacho.com
SUMMARY:Spanglish Sundays A Brunch Fiesta at K. Pacho
DESCRIPTION:
URL:https://www.kpacho.com/event/spanglish-sundays-a-brunch-fiesta-at-k-pacho/2027-12-05/
LOCATION:K. Pacho\, 1270 Union Turnpike\, New Hyde Park\, NY\, 11040\, United States
CATEGORIES:Weekly
ATTACH;FMTTYPE=image/jpeg:https://www.kpacho.com/wp-content/uploads/2025/03/1159d8f7-fd78-44d5-95e2-8dc9a1679b7a.jpg
GEO:40.7529;-73.6993
X-APPLE-STRUCTURED-LOCATION;VALUE=URI;X-ADDRESS=K. Pacho 1270 Union Turnpike New Hyde Park NY 11040 United States;X-APPLE-RADIUS=500;X-TITLE=1270 Union Turnpike:geo:-73.6993,40.7529
END:VEVENT
BEGIN:VEVENT
DTSTART;TZID=America/New_York:20271210T150000
DTEND;TZID=America/New_York:20271210T180000
DTSTAMP:20260420T040745
CREATED:20250827T230335Z
LAST-MODIFIED:20250916T234546Z
UID:30004210-1828450800-1828461600@www.kpacho.com
SUMMARY:K.Vida Loca at K. Pacho Every Friday
DESCRIPTION:
URL:https://www.kpacho.com/event/k-vida-loca-at-k-pacho-every-friday/2027-12-10/
LOCATION:K. Pacho\, 1270 Union Turnpike\, New Hyde Park\, NY\, 11040\, United States
CATEGORIES:Weekly
ATTACH;FMTTYPE=image/jpeg:https://www.kpacho.com/wp-content/uploads/2025/08/WhatsApp-Image-2025-08-27-at-14.47.58.jpeg
GEO:40.7529;-73.6993
X-APPLE-STRUCTURED-LOCATION;VALUE=URI;X-ADDRESS=K. Pacho 1270 Union Turnpike New Hyde Park NY 11040 United States;X-APPLE-RADIUS=500;X-TITLE=1270 Union Turnpike:geo:-73.6993,40.7529
END:VEVENT
BEGIN:VEVENT
DTSTART;TZID=America/New_York:20271212T120000
DTEND;TZID=America/New_York:20271212T160000
DTSTAMP:20260420T040745
CREATED:20250304T010014Z
LAST-MODIFIED:20250902T150143Z
UID:30001130-1828612800-1828627200@www.kpacho.com
SUMMARY:Spanglish Sundays A Brunch Fiesta at K. Pacho
DESCRIPTION:
URL:https://www.kpacho.com/event/spanglish-sundays-a-brunch-fiesta-at-k-pacho/2027-12-12/
LOCATION:K. Pacho\, 1270 Union Turnpike\, New Hyde Park\, NY\, 11040\, United States
CATEGORIES:Weekly
ATTACH;FMTTYPE=image/jpeg:https://www.kpacho.com/wp-content/uploads/2025/03/1159d8f7-fd78-44d5-95e2-8dc9a1679b7a.jpg
GEO:40.7529;-73.6993
X-APPLE-STRUCTURED-LOCATION;VALUE=URI;X-ADDRESS=K. Pacho 1270 Union Turnpike New Hyde Park NY 11040 United States;X-APPLE-RADIUS=500;X-TITLE=1270 Union Turnpike:geo:-73.6993,40.7529
END:VEVENT
BEGIN:VEVENT
DTSTART;TZID=America/New_York:20271217T150000
DTEND;TZID=America/New_York:20271217T180000
DTSTAMP:20260420T040745
CREATED:20250827T230335Z
LAST-MODIFIED:20250916T234546Z
UID:30004211-1829055600-1829066400@www.kpacho.com
SUMMARY:K.Vida Loca at K. Pacho Every Friday
DESCRIPTION:
URL:https://www.kpacho.com/event/k-vida-loca-at-k-pacho-every-friday/2027-12-17/
LOCATION:K. Pacho\, 1270 Union Turnpike\, New Hyde Park\, NY\, 11040\, United States
CATEGORIES:Weekly
ATTACH;FMTTYPE=image/jpeg:https://www.kpacho.com/wp-content/uploads/2025/08/WhatsApp-Image-2025-08-27-at-14.47.58.jpeg
GEO:40.7529;-73.6993
X-APPLE-STRUCTURED-LOCATION;VALUE=URI;X-ADDRESS=K. Pacho 1270 Union Turnpike New Hyde Park NY 11040 United States;X-APPLE-RADIUS=500;X-TITLE=1270 Union Turnpike:geo:-73.6993,40.7529
END:VEVENT
BEGIN:VEVENT
DTSTART;TZID=America/New_York:20271219T120000
DTEND;TZID=America/New_York:20271219T160000
DTSTAMP:20260420T040745
CREATED:20250304T010014Z
LAST-MODIFIED:20250902T150143Z
UID:30001131-1829217600-1829232000@www.kpacho.com
SUMMARY:Spanglish Sundays A Brunch Fiesta at K. Pacho
DESCRIPTION:
URL:https://www.kpacho.com/event/spanglish-sundays-a-brunch-fiesta-at-k-pacho/2027-12-19/
LOCATION:K. Pacho\, 1270 Union Turnpike\, New Hyde Park\, NY\, 11040\, United States
CATEGORIES:Weekly
ATTACH;FMTTYPE=image/jpeg:https://www.kpacho.com/wp-content/uploads/2025/03/1159d8f7-fd78-44d5-95e2-8dc9a1679b7a.jpg
GEO:40.7529;-73.6993
X-APPLE-STRUCTURED-LOCATION;VALUE=URI;X-ADDRESS=K. Pacho 1270 Union Turnpike New Hyde Park NY 11040 United States;X-APPLE-RADIUS=500;X-TITLE=1270 Union Turnpike:geo:-73.6993,40.7529
END:VEVENT
BEGIN:VEVENT
DTSTART;TZID=America/New_York:20271224T150000
DTEND;TZID=America/New_York:20271224T180000
DTSTAMP:20260420T040745
CREATED:20250827T230335Z
LAST-MODIFIED:20250916T234546Z
UID:30004212-1829660400-1829671200@www.kpacho.com
SUMMARY:K.Vida Loca at K. Pacho Every Friday
DESCRIPTION:
URL:https://www.kpacho.com/event/k-vida-loca-at-k-pacho-every-friday/2027-12-24/
LOCATION:K. Pacho\, 1270 Union Turnpike\, New Hyde Park\, NY\, 11040\, United States
CATEGORIES:Weekly
ATTACH;FMTTYPE=image/jpeg:https://www.kpacho.com/wp-content/uploads/2025/08/WhatsApp-Image-2025-08-27-at-14.47.58.jpeg
GEO:40.7529;-73.6993
X-APPLE-STRUCTURED-LOCATION;VALUE=URI;X-ADDRESS=K. Pacho 1270 Union Turnpike New Hyde Park NY 11040 United States;X-APPLE-RADIUS=500;X-TITLE=1270 Union Turnpike:geo:-73.6993,40.7529
END:VEVENT
BEGIN:VEVENT
DTSTART;TZID=America/New_York:20271226T120000
DTEND;TZID=America/New_York:20271226T160000
DTSTAMP:20260420T040745
CREATED:20250304T010014Z
LAST-MODIFIED:20250902T150143Z
UID:30001132-1829822400-1829836800@www.kpacho.com
SUMMARY:Spanglish Sundays A Brunch Fiesta at K. Pacho
DESCRIPTION:
URL:https://www.kpacho.com/event/spanglish-sundays-a-brunch-fiesta-at-k-pacho/2027-12-26/
LOCATION:K. Pacho\, 1270 Union Turnpike\, New Hyde Park\, NY\, 11040\, United States
CATEGORIES:Weekly
ATTACH;FMTTYPE=image/jpeg:https://www.kpacho.com/wp-content/uploads/2025/03/1159d8f7-fd78-44d5-95e2-8dc9a1679b7a.jpg
GEO:40.7529;-73.6993
X-APPLE-STRUCTURED-LOCATION;VALUE=URI;X-ADDRESS=K. Pacho 1270 Union Turnpike New Hyde Park NY 11040 United States;X-APPLE-RADIUS=500;X-TITLE=1270 Union Turnpike:geo:-73.6993,40.7529
END:VEVENT
BEGIN:VEVENT
DTSTART;TZID=America/New_York:20271231T150000
DTEND;TZID=America/New_York:20271231T180000
DTSTAMP:20260420T040745
CREATED:20250827T230335Z
LAST-MODIFIED:20250916T234546Z
UID:30004213-1830265200-1830276000@www.kpacho.com
SUMMARY:K.Vida Loca at K. Pacho Every Friday
DESCRIPTION:
URL:https://www.kpacho.com/event/k-vida-loca-at-k-pacho-every-friday/2027-12-31/
LOCATION:K. Pacho\, 1270 Union Turnpike\, New Hyde Park\, NY\, 11040\, United States
CATEGORIES:Weekly
ATTACH;FMTTYPE=image/jpeg:https://www.kpacho.com/wp-content/uploads/2025/08/WhatsApp-Image-2025-08-27-at-14.47.58.jpeg
GEO:40.7529;-73.6993
X-APPLE-STRUCTURED-LOCATION;VALUE=URI;X-ADDRESS=K. Pacho 1270 Union Turnpike New Hyde Park NY 11040 United States;X-APPLE-RADIUS=500;X-TITLE=1270 Union Turnpike:geo:-73.6993,40.7529
END:VEVENT
END:VCALENDAR