BEGIN:VCALENDAR
VERSION:2.0
PRODID:-//K. Pacho | Mexican Restaurant &amp; Catering Venue in New Hyde Park, Long Island - ECPv6.15.20//NONSGML v1.0//EN
CALSCALE:GREGORIAN
METHOD:PUBLISH
X-ORIGINAL-URL:https://www.kpacho.com
X-WR-CALDESC:Events for K. Pacho | Mexican Restaurant &amp; Catering Venue in New Hyde Park, Long Island
REFRESH-INTERVAL;VALUE=DURATION:PT1H
X-Robots-Tag:noindex
X-PUBLISHED-TTL:PT1H
BEGIN:VTIMEZONE
TZID:America/New_York
BEGIN:DAYLIGHT
TZOFFSETFROM:-0500
TZOFFSETTO:-0400
TZNAME:EDT
DTSTART:20260308T070000
END:DAYLIGHT
BEGIN:STANDARD
TZOFFSETFROM:-0400
TZOFFSETTO:-0500
TZNAME:EST
DTSTART:20261101T060000
END:STANDARD
BEGIN:DAYLIGHT
TZOFFSETFROM:-0500
TZOFFSETTO:-0400
TZNAME:EDT
DTSTART:20270314T070000
END:DAYLIGHT
BEGIN:STANDARD
TZOFFSETFROM:-0400
TZOFFSETTO:-0500
TZNAME:EST
DTSTART:20271107T060000
END:STANDARD
BEGIN:DAYLIGHT
TZOFFSETFROM:-0500
TZOFFSETTO:-0400
TZNAME:EDT
DTSTART:20280312T070000
END:DAYLIGHT
BEGIN:STANDARD
TZOFFSETFROM:-0400
TZOFFSETTO:-0500
TZNAME:EST
DTSTART:20281105T060000
END:STANDARD
BEGIN:DAYLIGHT
TZOFFSETFROM:-0500
TZOFFSETTO:-0400
TZNAME:EDT
DTSTART:20290311T070000
END:DAYLIGHT
BEGIN:STANDARD
TZOFFSETFROM:-0400
TZOFFSETTO:-0500
TZNAME:EST
DTSTART:20291104T060000
END:STANDARD
END:VTIMEZONE
BEGIN:VEVENT
DTSTART;TZID=America/New_York:20271126T150000
DTEND;TZID=America/New_York:20271126T180000
DTSTAMP:20260420T022334
CREATED:20250827T230335Z
LAST-MODIFIED:20250916T234546Z
UID:30004208-1827241200-1827252000@www.kpacho.com
SUMMARY:K.Vida Loca at K. Pacho Every Friday
DESCRIPTION:
URL:https://www.kpacho.com/event/k-vida-loca-at-k-pacho-every-friday/2027-11-26/
LOCATION:K. Pacho\, 1270 Union Turnpike\, New Hyde Park\, NY\, 11040\, United States
CATEGORIES:Weekly
ATTACH;FMTTYPE=image/jpeg:https://www.kpacho.com/wp-content/uploads/2025/08/WhatsApp-Image-2025-08-27-at-14.47.58.jpeg
GEO:40.7529;-73.6993
X-APPLE-STRUCTURED-LOCATION;VALUE=URI;X-ADDRESS=K. Pacho 1270 Union Turnpike New Hyde Park NY 11040 United States;X-APPLE-RADIUS=500;X-TITLE=1270 Union Turnpike:geo:-73.6993,40.7529
END:VEVENT
BEGIN:VEVENT
DTSTART;TZID=America/New_York:20271128T120000
DTEND;TZID=America/New_York:20271128T160000
DTSTAMP:20260420T022334
CREATED:20250304T010014Z
LAST-MODIFIED:20250902T150143Z
UID:30001128-1827403200-1827417600@www.kpacho.com
SUMMARY:Spanglish Sundays A Brunch Fiesta at K. Pacho
DESCRIPTION:
URL:https://www.kpacho.com/event/spanglish-sundays-a-brunch-fiesta-at-k-pacho/2027-11-28/
LOCATION:K. Pacho\, 1270 Union Turnpike\, New Hyde Park\, NY\, 11040\, United States
CATEGORIES:Weekly
ATTACH;FMTTYPE=image/jpeg:https://www.kpacho.com/wp-content/uploads/2025/03/1159d8f7-fd78-44d5-95e2-8dc9a1679b7a.jpg
GEO:40.7529;-73.6993
X-APPLE-STRUCTURED-LOCATION;VALUE=URI;X-ADDRESS=K. Pacho 1270 Union Turnpike New Hyde Park NY 11040 United States;X-APPLE-RADIUS=500;X-TITLE=1270 Union Turnpike:geo:-73.6993,40.7529
END:VEVENT
BEGIN:VEVENT
DTSTART;TZID=America/New_York:20271203T150000
DTEND;TZID=America/New_York:20271203T180000
DTSTAMP:20260420T022334
CREATED:20250827T230335Z
LAST-MODIFIED:20250916T234546Z
UID:30004209-1827846000-1827856800@www.kpacho.com
SUMMARY:K.Vida Loca at K. Pacho Every Friday
DESCRIPTION:
URL:https://www.kpacho.com/event/k-vida-loca-at-k-pacho-every-friday/2027-12-03/
LOCATION:K. Pacho\, 1270 Union Turnpike\, New Hyde Park\, NY\, 11040\, United States
CATEGORIES:Weekly
ATTACH;FMTTYPE=image/jpeg:https://www.kpacho.com/wp-content/uploads/2025/08/WhatsApp-Image-2025-08-27-at-14.47.58.jpeg
GEO:40.7529;-73.6993
X-APPLE-STRUCTURED-LOCATION;VALUE=URI;X-ADDRESS=K. Pacho 1270 Union Turnpike New Hyde Park NY 11040 United States;X-APPLE-RADIUS=500;X-TITLE=1270 Union Turnpike:geo:-73.6993,40.7529
END:VEVENT
BEGIN:VEVENT
DTSTART;TZID=America/New_York:20271205T120000
DTEND;TZID=America/New_York:20271205T160000
DTSTAMP:20260420T022334
CREATED:20250304T010014Z
LAST-MODIFIED:20250902T150143Z
UID:30001129-1828008000-1828022400@www.kpacho.com
SUMMARY:Spanglish Sundays A Brunch Fiesta at K. Pacho
DESCRIPTION:
URL:https://www.kpacho.com/event/spanglish-sundays-a-brunch-fiesta-at-k-pacho/2027-12-05/
LOCATION:K. Pacho\, 1270 Union Turnpike\, New Hyde Park\, NY\, 11040\, United States
CATEGORIES:Weekly
ATTACH;FMTTYPE=image/jpeg:https://www.kpacho.com/wp-content/uploads/2025/03/1159d8f7-fd78-44d5-95e2-8dc9a1679b7a.jpg
GEO:40.7529;-73.6993
X-APPLE-STRUCTURED-LOCATION;VALUE=URI;X-ADDRESS=K. Pacho 1270 Union Turnpike New Hyde Park NY 11040 United States;X-APPLE-RADIUS=500;X-TITLE=1270 Union Turnpike:geo:-73.6993,40.7529
END:VEVENT
BEGIN:VEVENT
DTSTART;TZID=America/New_York:20271210T150000
DTEND;TZID=America/New_York:20271210T180000
DTSTAMP:20260420T022334
CREATED:20250827T230335Z
LAST-MODIFIED:20250916T234546Z
UID:30004210-1828450800-1828461600@www.kpacho.com
SUMMARY:K.Vida Loca at K. Pacho Every Friday
DESCRIPTION:
URL:https://www.kpacho.com/event/k-vida-loca-at-k-pacho-every-friday/2027-12-10/
LOCATION:K. Pacho\, 1270 Union Turnpike\, New Hyde Park\, NY\, 11040\, United States
CATEGORIES:Weekly
ATTACH;FMTTYPE=image/jpeg:https://www.kpacho.com/wp-content/uploads/2025/08/WhatsApp-Image-2025-08-27-at-14.47.58.jpeg
GEO:40.7529;-73.6993
X-APPLE-STRUCTURED-LOCATION;VALUE=URI;X-ADDRESS=K. Pacho 1270 Union Turnpike New Hyde Park NY 11040 United States;X-APPLE-RADIUS=500;X-TITLE=1270 Union Turnpike:geo:-73.6993,40.7529
END:VEVENT
BEGIN:VEVENT
DTSTART;TZID=America/New_York:20271212T120000
DTEND;TZID=America/New_York:20271212T160000
DTSTAMP:20260420T022334
CREATED:20250304T010014Z
LAST-MODIFIED:20250902T150143Z
UID:30001130-1828612800-1828627200@www.kpacho.com
SUMMARY:Spanglish Sundays A Brunch Fiesta at K. Pacho
DESCRIPTION:
URL:https://www.kpacho.com/event/spanglish-sundays-a-brunch-fiesta-at-k-pacho/2027-12-12/
LOCATION:K. Pacho\, 1270 Union Turnpike\, New Hyde Park\, NY\, 11040\, United States
CATEGORIES:Weekly
ATTACH;FMTTYPE=image/jpeg:https://www.kpacho.com/wp-content/uploads/2025/03/1159d8f7-fd78-44d5-95e2-8dc9a1679b7a.jpg
GEO:40.7529;-73.6993
X-APPLE-STRUCTURED-LOCATION;VALUE=URI;X-ADDRESS=K. Pacho 1270 Union Turnpike New Hyde Park NY 11040 United States;X-APPLE-RADIUS=500;X-TITLE=1270 Union Turnpike:geo:-73.6993,40.7529
END:VEVENT
BEGIN:VEVENT
DTSTART;TZID=America/New_York:20271217T150000
DTEND;TZID=America/New_York:20271217T180000
DTSTAMP:20260420T022334
CREATED:20250827T230335Z
LAST-MODIFIED:20250916T234546Z
UID:30004211-1829055600-1829066400@www.kpacho.com
SUMMARY:K.Vida Loca at K. Pacho Every Friday
DESCRIPTION:
URL:https://www.kpacho.com/event/k-vida-loca-at-k-pacho-every-friday/2027-12-17/
LOCATION:K. Pacho\, 1270 Union Turnpike\, New Hyde Park\, NY\, 11040\, United States
CATEGORIES:Weekly
ATTACH;FMTTYPE=image/jpeg:https://www.kpacho.com/wp-content/uploads/2025/08/WhatsApp-Image-2025-08-27-at-14.47.58.jpeg
GEO:40.7529;-73.6993
X-APPLE-STRUCTURED-LOCATION;VALUE=URI;X-ADDRESS=K. Pacho 1270 Union Turnpike New Hyde Park NY 11040 United States;X-APPLE-RADIUS=500;X-TITLE=1270 Union Turnpike:geo:-73.6993,40.7529
END:VEVENT
BEGIN:VEVENT
DTSTART;TZID=America/New_York:20271219T120000
DTEND;TZID=America/New_York:20271219T160000
DTSTAMP:20260420T022334
CREATED:20250304T010014Z
LAST-MODIFIED:20250902T150143Z
UID:30001131-1829217600-1829232000@www.kpacho.com
SUMMARY:Spanglish Sundays A Brunch Fiesta at K. Pacho
DESCRIPTION:
URL:https://www.kpacho.com/event/spanglish-sundays-a-brunch-fiesta-at-k-pacho/2027-12-19/
LOCATION:K. Pacho\, 1270 Union Turnpike\, New Hyde Park\, NY\, 11040\, United States
CATEGORIES:Weekly
ATTACH;FMTTYPE=image/jpeg:https://www.kpacho.com/wp-content/uploads/2025/03/1159d8f7-fd78-44d5-95e2-8dc9a1679b7a.jpg
GEO:40.7529;-73.6993
X-APPLE-STRUCTURED-LOCATION;VALUE=URI;X-ADDRESS=K. Pacho 1270 Union Turnpike New Hyde Park NY 11040 United States;X-APPLE-RADIUS=500;X-TITLE=1270 Union Turnpike:geo:-73.6993,40.7529
END:VEVENT
BEGIN:VEVENT
DTSTART;TZID=America/New_York:20271224T150000
DTEND;TZID=America/New_York:20271224T180000
DTSTAMP:20260420T022334
CREATED:20250827T230335Z
LAST-MODIFIED:20250916T234546Z
UID:30004212-1829660400-1829671200@www.kpacho.com
SUMMARY:K.Vida Loca at K. Pacho Every Friday
DESCRIPTION:
URL:https://www.kpacho.com/event/k-vida-loca-at-k-pacho-every-friday/2027-12-24/
LOCATION:K. Pacho\, 1270 Union Turnpike\, New Hyde Park\, NY\, 11040\, United States
CATEGORIES:Weekly
ATTACH;FMTTYPE=image/jpeg:https://www.kpacho.com/wp-content/uploads/2025/08/WhatsApp-Image-2025-08-27-at-14.47.58.jpeg
GEO:40.7529;-73.6993
X-APPLE-STRUCTURED-LOCATION;VALUE=URI;X-ADDRESS=K. Pacho 1270 Union Turnpike New Hyde Park NY 11040 United States;X-APPLE-RADIUS=500;X-TITLE=1270 Union Turnpike:geo:-73.6993,40.7529
END:VEVENT
BEGIN:VEVENT
DTSTART;TZID=America/New_York:20271226T120000
DTEND;TZID=America/New_York:20271226T160000
DTSTAMP:20260420T022334
CREATED:20250304T010014Z
LAST-MODIFIED:20250902T150143Z
UID:30001132-1829822400-1829836800@www.kpacho.com
SUMMARY:Spanglish Sundays A Brunch Fiesta at K. Pacho
DESCRIPTION:
URL:https://www.kpacho.com/event/spanglish-sundays-a-brunch-fiesta-at-k-pacho/2027-12-26/
LOCATION:K. Pacho\, 1270 Union Turnpike\, New Hyde Park\, NY\, 11040\, United States
CATEGORIES:Weekly
ATTACH;FMTTYPE=image/jpeg:https://www.kpacho.com/wp-content/uploads/2025/03/1159d8f7-fd78-44d5-95e2-8dc9a1679b7a.jpg
GEO:40.7529;-73.6993
X-APPLE-STRUCTURED-LOCATION;VALUE=URI;X-ADDRESS=K. Pacho 1270 Union Turnpike New Hyde Park NY 11040 United States;X-APPLE-RADIUS=500;X-TITLE=1270 Union Turnpike:geo:-73.6993,40.7529
END:VEVENT
BEGIN:VEVENT
DTSTART;TZID=America/New_York:20271231T150000
DTEND;TZID=America/New_York:20271231T180000
DTSTAMP:20260420T022334
CREATED:20250827T230335Z
LAST-MODIFIED:20250916T234546Z
UID:30004213-1830265200-1830276000@www.kpacho.com
SUMMARY:K.Vida Loca at K. Pacho Every Friday
DESCRIPTION:
URL:https://www.kpacho.com/event/k-vida-loca-at-k-pacho-every-friday/2027-12-31/
LOCATION:K. Pacho\, 1270 Union Turnpike\, New Hyde Park\, NY\, 11040\, United States
CATEGORIES:Weekly
ATTACH;FMTTYPE=image/jpeg:https://www.kpacho.com/wp-content/uploads/2025/08/WhatsApp-Image-2025-08-27-at-14.47.58.jpeg
GEO:40.7529;-73.6993
X-APPLE-STRUCTURED-LOCATION;VALUE=URI;X-ADDRESS=K. Pacho 1270 Union Turnpike New Hyde Park NY 11040 United States;X-APPLE-RADIUS=500;X-TITLE=1270 Union Turnpike:geo:-73.6993,40.7529
END:VEVENT
BEGIN:VEVENT
DTSTART;TZID=America/New_York:20280102T120000
DTEND;TZID=America/New_York:20280102T160000
DTSTAMP:20260420T022334
CREATED:20250304T010014Z
LAST-MODIFIED:20250902T150143Z
UID:30001133-1830427200-1830441600@www.kpacho.com
SUMMARY:Spanglish Sundays A Brunch Fiesta at K. Pacho
DESCRIPTION:
URL:https://www.kpacho.com/event/spanglish-sundays-a-brunch-fiesta-at-k-pacho/2028-01-02/
LOCATION:K. Pacho\, 1270 Union Turnpike\, New Hyde Park\, NY\, 11040\, United States
CATEGORIES:Weekly
ATTACH;FMTTYPE=image/jpeg:https://www.kpacho.com/wp-content/uploads/2025/03/1159d8f7-fd78-44d5-95e2-8dc9a1679b7a.jpg
GEO:40.7529;-73.6993
X-APPLE-STRUCTURED-LOCATION;VALUE=URI;X-ADDRESS=K. Pacho 1270 Union Turnpike New Hyde Park NY 11040 United States;X-APPLE-RADIUS=500;X-TITLE=1270 Union Turnpike:geo:-73.6993,40.7529
END:VEVENT
BEGIN:VEVENT
DTSTART;TZID=America/New_York:20280107T150000
DTEND;TZID=America/New_York:20280107T180000
DTSTAMP:20260420T022334
CREATED:20250827T230335Z
LAST-MODIFIED:20250916T234546Z
UID:30004214-1830870000-1830880800@www.kpacho.com
SUMMARY:K.Vida Loca at K. Pacho Every Friday
DESCRIPTION:
URL:https://www.kpacho.com/event/k-vida-loca-at-k-pacho-every-friday/2028-01-07/
LOCATION:K. Pacho\, 1270 Union Turnpike\, New Hyde Park\, NY\, 11040\, United States
CATEGORIES:Weekly
ATTACH;FMTTYPE=image/jpeg:https://www.kpacho.com/wp-content/uploads/2025/08/WhatsApp-Image-2025-08-27-at-14.47.58.jpeg
GEO:40.7529;-73.6993
X-APPLE-STRUCTURED-LOCATION;VALUE=URI;X-ADDRESS=K. Pacho 1270 Union Turnpike New Hyde Park NY 11040 United States;X-APPLE-RADIUS=500;X-TITLE=1270 Union Turnpike:geo:-73.6993,40.7529
END:VEVENT
BEGIN:VEVENT
DTSTART;TZID=America/New_York:20280109T120000
DTEND;TZID=America/New_York:20280109T160000
DTSTAMP:20260420T022334
CREATED:20250304T010014Z
LAST-MODIFIED:20250902T150143Z
UID:30001134-1831032000-1831046400@www.kpacho.com
SUMMARY:Spanglish Sundays A Brunch Fiesta at K. Pacho
DESCRIPTION:
URL:https://www.kpacho.com/event/spanglish-sundays-a-brunch-fiesta-at-k-pacho/2028-01-09/
LOCATION:K. Pacho\, 1270 Union Turnpike\, New Hyde Park\, NY\, 11040\, United States
CATEGORIES:Weekly
ATTACH;FMTTYPE=image/jpeg:https://www.kpacho.com/wp-content/uploads/2025/03/1159d8f7-fd78-44d5-95e2-8dc9a1679b7a.jpg
GEO:40.7529;-73.6993
X-APPLE-STRUCTURED-LOCATION;VALUE=URI;X-ADDRESS=K. Pacho 1270 Union Turnpike New Hyde Park NY 11040 United States;X-APPLE-RADIUS=500;X-TITLE=1270 Union Turnpike:geo:-73.6993,40.7529
END:VEVENT
BEGIN:VEVENT
DTSTART;TZID=America/New_York:20280114T150000
DTEND;TZID=America/New_York:20280114T180000
DTSTAMP:20260420T022334
CREATED:20250827T230335Z
LAST-MODIFIED:20250916T234546Z
UID:30004215-1831474800-1831485600@www.kpacho.com
SUMMARY:K.Vida Loca at K. Pacho Every Friday
DESCRIPTION:
URL:https://www.kpacho.com/event/k-vida-loca-at-k-pacho-every-friday/2028-01-14/
LOCATION:K. Pacho\, 1270 Union Turnpike\, New Hyde Park\, NY\, 11040\, United States
CATEGORIES:Weekly
ATTACH;FMTTYPE=image/jpeg:https://www.kpacho.com/wp-content/uploads/2025/08/WhatsApp-Image-2025-08-27-at-14.47.58.jpeg
GEO:40.7529;-73.6993
X-APPLE-STRUCTURED-LOCATION;VALUE=URI;X-ADDRESS=K. Pacho 1270 Union Turnpike New Hyde Park NY 11040 United States;X-APPLE-RADIUS=500;X-TITLE=1270 Union Turnpike:geo:-73.6993,40.7529
END:VEVENT
BEGIN:VEVENT
DTSTART;TZID=America/New_York:20280116T120000
DTEND;TZID=America/New_York:20280116T160000
DTSTAMP:20260420T022334
CREATED:20250304T010014Z
LAST-MODIFIED:20250902T150143Z
UID:30001135-1831636800-1831651200@www.kpacho.com
SUMMARY:Spanglish Sundays A Brunch Fiesta at K. Pacho
DESCRIPTION:
URL:https://www.kpacho.com/event/spanglish-sundays-a-brunch-fiesta-at-k-pacho/2028-01-16/
LOCATION:K. Pacho\, 1270 Union Turnpike\, New Hyde Park\, NY\, 11040\, United States
CATEGORIES:Weekly
ATTACH;FMTTYPE=image/jpeg:https://www.kpacho.com/wp-content/uploads/2025/03/1159d8f7-fd78-44d5-95e2-8dc9a1679b7a.jpg
GEO:40.7529;-73.6993
X-APPLE-STRUCTURED-LOCATION;VALUE=URI;X-ADDRESS=K. Pacho 1270 Union Turnpike New Hyde Park NY 11040 United States;X-APPLE-RADIUS=500;X-TITLE=1270 Union Turnpike:geo:-73.6993,40.7529
END:VEVENT
BEGIN:VEVENT
DTSTART;TZID=America/New_York:20280121T150000
DTEND;TZID=America/New_York:20280121T180000
DTSTAMP:20260420T022334
CREATED:20250827T230335Z
LAST-MODIFIED:20250916T234546Z
UID:30004216-1832079600-1832090400@www.kpacho.com
SUMMARY:K.Vida Loca at K. Pacho Every Friday
DESCRIPTION:
URL:https://www.kpacho.com/event/k-vida-loca-at-k-pacho-every-friday/2028-01-21/
LOCATION:K. Pacho\, 1270 Union Turnpike\, New Hyde Park\, NY\, 11040\, United States
CATEGORIES:Weekly
ATTACH;FMTTYPE=image/jpeg:https://www.kpacho.com/wp-content/uploads/2025/08/WhatsApp-Image-2025-08-27-at-14.47.58.jpeg
GEO:40.7529;-73.6993
X-APPLE-STRUCTURED-LOCATION;VALUE=URI;X-ADDRESS=K. Pacho 1270 Union Turnpike New Hyde Park NY 11040 United States;X-APPLE-RADIUS=500;X-TITLE=1270 Union Turnpike:geo:-73.6993,40.7529
END:VEVENT
BEGIN:VEVENT
DTSTART;TZID=America/New_York:20280123T120000
DTEND;TZID=America/New_York:20280123T160000
DTSTAMP:20260420T022334
CREATED:20250304T010014Z
LAST-MODIFIED:20250902T150143Z
UID:30001136-1832241600-1832256000@www.kpacho.com
SUMMARY:Spanglish Sundays A Brunch Fiesta at K. Pacho
DESCRIPTION:
URL:https://www.kpacho.com/event/spanglish-sundays-a-brunch-fiesta-at-k-pacho/2028-01-23/
LOCATION:K. Pacho\, 1270 Union Turnpike\, New Hyde Park\, NY\, 11040\, United States
CATEGORIES:Weekly
ATTACH;FMTTYPE=image/jpeg:https://www.kpacho.com/wp-content/uploads/2025/03/1159d8f7-fd78-44d5-95e2-8dc9a1679b7a.jpg
GEO:40.7529;-73.6993
X-APPLE-STRUCTURED-LOCATION;VALUE=URI;X-ADDRESS=K. Pacho 1270 Union Turnpike New Hyde Park NY 11040 United States;X-APPLE-RADIUS=500;X-TITLE=1270 Union Turnpike:geo:-73.6993,40.7529
END:VEVENT
BEGIN:VEVENT
DTSTART;TZID=America/New_York:20280128T150000
DTEND;TZID=America/New_York:20280128T180000
DTSTAMP:20260420T022334
CREATED:20250827T230335Z
LAST-MODIFIED:20250916T234546Z
UID:30004217-1832684400-1832695200@www.kpacho.com
SUMMARY:K.Vida Loca at K. Pacho Every Friday
DESCRIPTION:
URL:https://www.kpacho.com/event/k-vida-loca-at-k-pacho-every-friday/2028-01-28/
LOCATION:K. Pacho\, 1270 Union Turnpike\, New Hyde Park\, NY\, 11040\, United States
CATEGORIES:Weekly
ATTACH;FMTTYPE=image/jpeg:https://www.kpacho.com/wp-content/uploads/2025/08/WhatsApp-Image-2025-08-27-at-14.47.58.jpeg
GEO:40.7529;-73.6993
X-APPLE-STRUCTURED-LOCATION;VALUE=URI;X-ADDRESS=K. Pacho 1270 Union Turnpike New Hyde Park NY 11040 United States;X-APPLE-RADIUS=500;X-TITLE=1270 Union Turnpike:geo:-73.6993,40.7529
END:VEVENT
BEGIN:VEVENT
DTSTART;TZID=America/New_York:20280130T120000
DTEND;TZID=America/New_York:20280130T160000
DTSTAMP:20260420T022334
CREATED:20250304T010014Z
LAST-MODIFIED:20250902T150143Z
UID:30001137-1832846400-1832860800@www.kpacho.com
SUMMARY:Spanglish Sundays A Brunch Fiesta at K. Pacho
DESCRIPTION:
URL:https://www.kpacho.com/event/spanglish-sundays-a-brunch-fiesta-at-k-pacho/2028-01-30/
LOCATION:K. Pacho\, 1270 Union Turnpike\, New Hyde Park\, NY\, 11040\, United States
CATEGORIES:Weekly
ATTACH;FMTTYPE=image/jpeg:https://www.kpacho.com/wp-content/uploads/2025/03/1159d8f7-fd78-44d5-95e2-8dc9a1679b7a.jpg
GEO:40.7529;-73.6993
X-APPLE-STRUCTURED-LOCATION;VALUE=URI;X-ADDRESS=K. Pacho 1270 Union Turnpike New Hyde Park NY 11040 United States;X-APPLE-RADIUS=500;X-TITLE=1270 Union Turnpike:geo:-73.6993,40.7529
END:VEVENT
BEGIN:VEVENT
DTSTART;TZID=America/New_York:20280204T150000
DTEND;TZID=America/New_York:20280204T180000
DTSTAMP:20260420T022334
CREATED:20250827T230335Z
LAST-MODIFIED:20250916T234546Z
UID:30004218-1833289200-1833300000@www.kpacho.com
SUMMARY:K.Vida Loca at K. Pacho Every Friday
DESCRIPTION:
URL:https://www.kpacho.com/event/k-vida-loca-at-k-pacho-every-friday/2028-02-04/
LOCATION:K. Pacho\, 1270 Union Turnpike\, New Hyde Park\, NY\, 11040\, United States
CATEGORIES:Weekly
ATTACH;FMTTYPE=image/jpeg:https://www.kpacho.com/wp-content/uploads/2025/08/WhatsApp-Image-2025-08-27-at-14.47.58.jpeg
GEO:40.7529;-73.6993
X-APPLE-STRUCTURED-LOCATION;VALUE=URI;X-ADDRESS=K. Pacho 1270 Union Turnpike New Hyde Park NY 11040 United States;X-APPLE-RADIUS=500;X-TITLE=1270 Union Turnpike:geo:-73.6993,40.7529
END:VEVENT
BEGIN:VEVENT
DTSTART;TZID=America/New_York:20280206T120000
DTEND;TZID=America/New_York:20280206T160000
DTSTAMP:20260420T022334
CREATED:20250304T010014Z
LAST-MODIFIED:20250902T150143Z
UID:30001138-1833451200-1833465600@www.kpacho.com
SUMMARY:Spanglish Sundays A Brunch Fiesta at K. Pacho
DESCRIPTION:
URL:https://www.kpacho.com/event/spanglish-sundays-a-brunch-fiesta-at-k-pacho/2028-02-06/
LOCATION:K. Pacho\, 1270 Union Turnpike\, New Hyde Park\, NY\, 11040\, United States
CATEGORIES:Weekly
ATTACH;FMTTYPE=image/jpeg:https://www.kpacho.com/wp-content/uploads/2025/03/1159d8f7-fd78-44d5-95e2-8dc9a1679b7a.jpg
GEO:40.7529;-73.6993
X-APPLE-STRUCTURED-LOCATION;VALUE=URI;X-ADDRESS=K. Pacho 1270 Union Turnpike New Hyde Park NY 11040 United States;X-APPLE-RADIUS=500;X-TITLE=1270 Union Turnpike:geo:-73.6993,40.7529
END:VEVENT
BEGIN:VEVENT
DTSTART;TZID=America/New_York:20280211T150000
DTEND;TZID=America/New_York:20280211T180000
DTSTAMP:20260420T022334
CREATED:20250827T230335Z
LAST-MODIFIED:20250916T234546Z
UID:30004219-1833894000-1833904800@www.kpacho.com
SUMMARY:K.Vida Loca at K. Pacho Every Friday
DESCRIPTION:
URL:https://www.kpacho.com/event/k-vida-loca-at-k-pacho-every-friday/2028-02-11/
LOCATION:K. Pacho\, 1270 Union Turnpike\, New Hyde Park\, NY\, 11040\, United States
CATEGORIES:Weekly
ATTACH;FMTTYPE=image/jpeg:https://www.kpacho.com/wp-content/uploads/2025/08/WhatsApp-Image-2025-08-27-at-14.47.58.jpeg
GEO:40.7529;-73.6993
X-APPLE-STRUCTURED-LOCATION;VALUE=URI;X-ADDRESS=K. Pacho 1270 Union Turnpike New Hyde Park NY 11040 United States;X-APPLE-RADIUS=500;X-TITLE=1270 Union Turnpike:geo:-73.6993,40.7529
END:VEVENT
BEGIN:VEVENT
DTSTART;TZID=America/New_York:20280213T120000
DTEND;TZID=America/New_York:20280213T160000
DTSTAMP:20260420T022334
CREATED:20250304T010014Z
LAST-MODIFIED:20250902T150143Z
UID:30001139-1834056000-1834070400@www.kpacho.com
SUMMARY:Spanglish Sundays A Brunch Fiesta at K. Pacho
DESCRIPTION:
URL:https://www.kpacho.com/event/spanglish-sundays-a-brunch-fiesta-at-k-pacho/2028-02-13/
LOCATION:K. Pacho\, 1270 Union Turnpike\, New Hyde Park\, NY\, 11040\, United States
CATEGORIES:Weekly
ATTACH;FMTTYPE=image/jpeg:https://www.kpacho.com/wp-content/uploads/2025/03/1159d8f7-fd78-44d5-95e2-8dc9a1679b7a.jpg
GEO:40.7529;-73.6993
X-APPLE-STRUCTURED-LOCATION;VALUE=URI;X-ADDRESS=K. Pacho 1270 Union Turnpike New Hyde Park NY 11040 United States;X-APPLE-RADIUS=500;X-TITLE=1270 Union Turnpike:geo:-73.6993,40.7529
END:VEVENT
BEGIN:VEVENT
DTSTART;TZID=America/New_York:20280218T150000
DTEND;TZID=America/New_York:20280218T180000
DTSTAMP:20260420T022334
CREATED:20250827T230335Z
LAST-MODIFIED:20250916T234546Z
UID:30004220-1834498800-1834509600@www.kpacho.com
SUMMARY:K.Vida Loca at K. Pacho Every Friday
DESCRIPTION:
URL:https://www.kpacho.com/event/k-vida-loca-at-k-pacho-every-friday/2028-02-18/
LOCATION:K. Pacho\, 1270 Union Turnpike\, New Hyde Park\, NY\, 11040\, United States
CATEGORIES:Weekly
ATTACH;FMTTYPE=image/jpeg:https://www.kpacho.com/wp-content/uploads/2025/08/WhatsApp-Image-2025-08-27-at-14.47.58.jpeg
GEO:40.7529;-73.6993
X-APPLE-STRUCTURED-LOCATION;VALUE=URI;X-ADDRESS=K. Pacho 1270 Union Turnpike New Hyde Park NY 11040 United States;X-APPLE-RADIUS=500;X-TITLE=1270 Union Turnpike:geo:-73.6993,40.7529
END:VEVENT
BEGIN:VEVENT
DTSTART;TZID=America/New_York:20280220T120000
DTEND;TZID=America/New_York:20280220T160000
DTSTAMP:20260420T022334
CREATED:20250304T010014Z
LAST-MODIFIED:20250902T150143Z
UID:30001140-1834660800-1834675200@www.kpacho.com
SUMMARY:Spanglish Sundays A Brunch Fiesta at K. Pacho
DESCRIPTION:
URL:https://www.kpacho.com/event/spanglish-sundays-a-brunch-fiesta-at-k-pacho/2028-02-20/
LOCATION:K. Pacho\, 1270 Union Turnpike\, New Hyde Park\, NY\, 11040\, United States
CATEGORIES:Weekly
ATTACH;FMTTYPE=image/jpeg:https://www.kpacho.com/wp-content/uploads/2025/03/1159d8f7-fd78-44d5-95e2-8dc9a1679b7a.jpg
GEO:40.7529;-73.6993
X-APPLE-STRUCTURED-LOCATION;VALUE=URI;X-ADDRESS=K. Pacho 1270 Union Turnpike New Hyde Park NY 11040 United States;X-APPLE-RADIUS=500;X-TITLE=1270 Union Turnpike:geo:-73.6993,40.7529
END:VEVENT
BEGIN:VEVENT
DTSTART;TZID=America/New_York:20280225T150000
DTEND;TZID=America/New_York:20280225T180000
DTSTAMP:20260420T022334
CREATED:20250827T230335Z
LAST-MODIFIED:20250916T234546Z
UID:30004221-1835103600-1835114400@www.kpacho.com
SUMMARY:K.Vida Loca at K. Pacho Every Friday
DESCRIPTION:
URL:https://www.kpacho.com/event/k-vida-loca-at-k-pacho-every-friday/2028-02-25/
LOCATION:K. Pacho\, 1270 Union Turnpike\, New Hyde Park\, NY\, 11040\, United States
CATEGORIES:Weekly
ATTACH;FMTTYPE=image/jpeg:https://www.kpacho.com/wp-content/uploads/2025/08/WhatsApp-Image-2025-08-27-at-14.47.58.jpeg
GEO:40.7529;-73.6993
X-APPLE-STRUCTURED-LOCATION;VALUE=URI;X-ADDRESS=K. Pacho 1270 Union Turnpike New Hyde Park NY 11040 United States;X-APPLE-RADIUS=500;X-TITLE=1270 Union Turnpike:geo:-73.6993,40.7529
END:VEVENT
BEGIN:VEVENT
DTSTART;TZID=America/New_York:20280227T120000
DTEND;TZID=America/New_York:20280227T160000
DTSTAMP:20260420T022334
CREATED:20250304T010014Z
LAST-MODIFIED:20250902T150143Z
UID:30001141-1835265600-1835280000@www.kpacho.com
SUMMARY:Spanglish Sundays A Brunch Fiesta at K. Pacho
DESCRIPTION:
URL:https://www.kpacho.com/event/spanglish-sundays-a-brunch-fiesta-at-k-pacho/2028-02-27/
LOCATION:K. Pacho\, 1270 Union Turnpike\, New Hyde Park\, NY\, 11040\, United States
CATEGORIES:Weekly
ATTACH;FMTTYPE=image/jpeg:https://www.kpacho.com/wp-content/uploads/2025/03/1159d8f7-fd78-44d5-95e2-8dc9a1679b7a.jpg
GEO:40.7529;-73.6993
X-APPLE-STRUCTURED-LOCATION;VALUE=URI;X-ADDRESS=K. Pacho 1270 Union Turnpike New Hyde Park NY 11040 United States;X-APPLE-RADIUS=500;X-TITLE=1270 Union Turnpike:geo:-73.6993,40.7529
END:VEVENT
BEGIN:VEVENT
DTSTART;TZID=America/New_York:20280303T150000
DTEND;TZID=America/New_York:20280303T180000
DTSTAMP:20260420T022334
CREATED:20250827T230335Z
LAST-MODIFIED:20250916T234546Z
UID:30004222-1835708400-1835719200@www.kpacho.com
SUMMARY:K.Vida Loca at K. Pacho Every Friday
DESCRIPTION:
URL:https://www.kpacho.com/event/k-vida-loca-at-k-pacho-every-friday/2028-03-03/
LOCATION:K. Pacho\, 1270 Union Turnpike\, New Hyde Park\, NY\, 11040\, United States
CATEGORIES:Weekly
ATTACH;FMTTYPE=image/jpeg:https://www.kpacho.com/wp-content/uploads/2025/08/WhatsApp-Image-2025-08-27-at-14.47.58.jpeg
GEO:40.7529;-73.6993
X-APPLE-STRUCTURED-LOCATION;VALUE=URI;X-ADDRESS=K. Pacho 1270 Union Turnpike New Hyde Park NY 11040 United States;X-APPLE-RADIUS=500;X-TITLE=1270 Union Turnpike:geo:-73.6993,40.7529
END:VEVENT
BEGIN:VEVENT
DTSTART;TZID=America/New_York:20280305T120000
DTEND;TZID=America/New_York:20280305T160000
DTSTAMP:20260420T022334
CREATED:20250304T010014Z
LAST-MODIFIED:20250902T150143Z
UID:30001142-1835870400-1835884800@www.kpacho.com
SUMMARY:Spanglish Sundays A Brunch Fiesta at K. Pacho
DESCRIPTION:
URL:https://www.kpacho.com/event/spanglish-sundays-a-brunch-fiesta-at-k-pacho/2028-03-05/
LOCATION:K. Pacho\, 1270 Union Turnpike\, New Hyde Park\, NY\, 11040\, United States
CATEGORIES:Weekly
ATTACH;FMTTYPE=image/jpeg:https://www.kpacho.com/wp-content/uploads/2025/03/1159d8f7-fd78-44d5-95e2-8dc9a1679b7a.jpg
GEO:40.7529;-73.6993
X-APPLE-STRUCTURED-LOCATION;VALUE=URI;X-ADDRESS=K. Pacho 1270 Union Turnpike New Hyde Park NY 11040 United States;X-APPLE-RADIUS=500;X-TITLE=1270 Union Turnpike:geo:-73.6993,40.7529
END:VEVENT
END:VCALENDAR