BEGIN:VCALENDAR
VERSION:2.0
PRODID:-//K. Pacho | Mexican Restaurant &amp; Catering Venue in New Hyde Park, Long Island - ECPv6.15.20//NONSGML v1.0//EN
CALSCALE:GREGORIAN
METHOD:PUBLISH
X-ORIGINAL-URL:https://www.kpacho.com
X-WR-CALDESC:Events for K. Pacho | Mexican Restaurant &amp; Catering Venue in New Hyde Park, Long Island
REFRESH-INTERVAL;VALUE=DURATION:PT1H
X-Robots-Tag:noindex
X-PUBLISHED-TTL:PT1H
BEGIN:VTIMEZONE
TZID:America/New_York
BEGIN:DAYLIGHT
TZOFFSETFROM:-0500
TZOFFSETTO:-0400
TZNAME:EDT
DTSTART:20260308T070000
END:DAYLIGHT
BEGIN:STANDARD
TZOFFSETFROM:-0400
TZOFFSETTO:-0500
TZNAME:EST
DTSTART:20261101T060000
END:STANDARD
BEGIN:DAYLIGHT
TZOFFSETFROM:-0500
TZOFFSETTO:-0400
TZNAME:EDT
DTSTART:20270314T070000
END:DAYLIGHT
BEGIN:STANDARD
TZOFFSETFROM:-0400
TZOFFSETTO:-0500
TZNAME:EST
DTSTART:20271107T060000
END:STANDARD
BEGIN:DAYLIGHT
TZOFFSETFROM:-0500
TZOFFSETTO:-0400
TZNAME:EDT
DTSTART:20280312T070000
END:DAYLIGHT
BEGIN:STANDARD
TZOFFSETFROM:-0400
TZOFFSETTO:-0500
TZNAME:EST
DTSTART:20281105T060000
END:STANDARD
END:VTIMEZONE
BEGIN:VEVENT
DTSTART;TZID=America/New_York:20270103T120000
DTEND;TZID=America/New_York:20270103T160000
DTSTAMP:20260420T013003
CREATED:20250304T010014Z
LAST-MODIFIED:20250902T150143Z
UID:30001081-1798977600-1798992000@www.kpacho.com
SUMMARY:Spanglish Sundays A Brunch Fiesta at K. Pacho
DESCRIPTION:
URL:https://www.kpacho.com/event/spanglish-sundays-a-brunch-fiesta-at-k-pacho/2027-01-03/
LOCATION:K. Pacho\, 1270 Union Turnpike\, New Hyde Park\, NY\, 11040\, United States
CATEGORIES:Weekly
ATTACH;FMTTYPE=image/jpeg:https://www.kpacho.com/wp-content/uploads/2025/03/1159d8f7-fd78-44d5-95e2-8dc9a1679b7a.jpg
GEO:40.7529;-73.6993
X-APPLE-STRUCTURED-LOCATION;VALUE=URI;X-ADDRESS=K. Pacho 1270 Union Turnpike New Hyde Park NY 11040 United States;X-APPLE-RADIUS=500;X-TITLE=1270 Union Turnpike:geo:-73.6993,40.7529
END:VEVENT
BEGIN:VEVENT
DTSTART;TZID=America/New_York:20270108T150000
DTEND;TZID=America/New_York:20270108T180000
DTSTAMP:20260420T013003
CREATED:20250827T230335Z
LAST-MODIFIED:20250916T234546Z
UID:30004162-1799420400-1799431200@www.kpacho.com
SUMMARY:K.Vida Loca at K. Pacho Every Friday
DESCRIPTION:
URL:https://www.kpacho.com/event/k-vida-loca-at-k-pacho-every-friday/2027-01-08/
LOCATION:K. Pacho\, 1270 Union Turnpike\, New Hyde Park\, NY\, 11040\, United States
CATEGORIES:Weekly
ATTACH;FMTTYPE=image/jpeg:https://www.kpacho.com/wp-content/uploads/2025/08/WhatsApp-Image-2025-08-27-at-14.47.58.jpeg
GEO:40.7529;-73.6993
X-APPLE-STRUCTURED-LOCATION;VALUE=URI;X-ADDRESS=K. Pacho 1270 Union Turnpike New Hyde Park NY 11040 United States;X-APPLE-RADIUS=500;X-TITLE=1270 Union Turnpike:geo:-73.6993,40.7529
END:VEVENT
BEGIN:VEVENT
DTSTART;TZID=America/New_York:20270110T120000
DTEND;TZID=America/New_York:20270110T160000
DTSTAMP:20260420T013003
CREATED:20250304T010014Z
LAST-MODIFIED:20250902T150143Z
UID:30001082-1799582400-1799596800@www.kpacho.com
SUMMARY:Spanglish Sundays A Brunch Fiesta at K. Pacho
DESCRIPTION:
URL:https://www.kpacho.com/event/spanglish-sundays-a-brunch-fiesta-at-k-pacho/2027-01-10/
LOCATION:K. Pacho\, 1270 Union Turnpike\, New Hyde Park\, NY\, 11040\, United States
CATEGORIES:Weekly
ATTACH;FMTTYPE=image/jpeg:https://www.kpacho.com/wp-content/uploads/2025/03/1159d8f7-fd78-44d5-95e2-8dc9a1679b7a.jpg
GEO:40.7529;-73.6993
X-APPLE-STRUCTURED-LOCATION;VALUE=URI;X-ADDRESS=K. Pacho 1270 Union Turnpike New Hyde Park NY 11040 United States;X-APPLE-RADIUS=500;X-TITLE=1270 Union Turnpike:geo:-73.6993,40.7529
END:VEVENT
BEGIN:VEVENT
DTSTART;TZID=America/New_York:20270115T150000
DTEND;TZID=America/New_York:20270115T180000
DTSTAMP:20260420T013003
CREATED:20250827T230335Z
LAST-MODIFIED:20250916T234546Z
UID:30004163-1800025200-1800036000@www.kpacho.com
SUMMARY:K.Vida Loca at K. Pacho Every Friday
DESCRIPTION:
URL:https://www.kpacho.com/event/k-vida-loca-at-k-pacho-every-friday/2027-01-15/
LOCATION:K. Pacho\, 1270 Union Turnpike\, New Hyde Park\, NY\, 11040\, United States
CATEGORIES:Weekly
ATTACH;FMTTYPE=image/jpeg:https://www.kpacho.com/wp-content/uploads/2025/08/WhatsApp-Image-2025-08-27-at-14.47.58.jpeg
GEO:40.7529;-73.6993
X-APPLE-STRUCTURED-LOCATION;VALUE=URI;X-ADDRESS=K. Pacho 1270 Union Turnpike New Hyde Park NY 11040 United States;X-APPLE-RADIUS=500;X-TITLE=1270 Union Turnpike:geo:-73.6993,40.7529
END:VEVENT
BEGIN:VEVENT
DTSTART;TZID=America/New_York:20270117T120000
DTEND;TZID=America/New_York:20270117T160000
DTSTAMP:20260420T013003
CREATED:20250304T010014Z
LAST-MODIFIED:20250902T150143Z
UID:30001083-1800187200-1800201600@www.kpacho.com
SUMMARY:Spanglish Sundays A Brunch Fiesta at K. Pacho
DESCRIPTION:
URL:https://www.kpacho.com/event/spanglish-sundays-a-brunch-fiesta-at-k-pacho/2027-01-17/
LOCATION:K. Pacho\, 1270 Union Turnpike\, New Hyde Park\, NY\, 11040\, United States
CATEGORIES:Weekly
ATTACH;FMTTYPE=image/jpeg:https://www.kpacho.com/wp-content/uploads/2025/03/1159d8f7-fd78-44d5-95e2-8dc9a1679b7a.jpg
GEO:40.7529;-73.6993
X-APPLE-STRUCTURED-LOCATION;VALUE=URI;X-ADDRESS=K. Pacho 1270 Union Turnpike New Hyde Park NY 11040 United States;X-APPLE-RADIUS=500;X-TITLE=1270 Union Turnpike:geo:-73.6993,40.7529
END:VEVENT
BEGIN:VEVENT
DTSTART;TZID=America/New_York:20270122T150000
DTEND;TZID=America/New_York:20270122T180000
DTSTAMP:20260420T013003
CREATED:20250827T230335Z
LAST-MODIFIED:20250916T234546Z
UID:30004164-1800630000-1800640800@www.kpacho.com
SUMMARY:K.Vida Loca at K. Pacho Every Friday
DESCRIPTION:
URL:https://www.kpacho.com/event/k-vida-loca-at-k-pacho-every-friday/2027-01-22/
LOCATION:K. Pacho\, 1270 Union Turnpike\, New Hyde Park\, NY\, 11040\, United States
CATEGORIES:Weekly
ATTACH;FMTTYPE=image/jpeg:https://www.kpacho.com/wp-content/uploads/2025/08/WhatsApp-Image-2025-08-27-at-14.47.58.jpeg
GEO:40.7529;-73.6993
X-APPLE-STRUCTURED-LOCATION;VALUE=URI;X-ADDRESS=K. Pacho 1270 Union Turnpike New Hyde Park NY 11040 United States;X-APPLE-RADIUS=500;X-TITLE=1270 Union Turnpike:geo:-73.6993,40.7529
END:VEVENT
BEGIN:VEVENT
DTSTART;TZID=America/New_York:20270124T120000
DTEND;TZID=America/New_York:20270124T160000
DTSTAMP:20260420T013003
CREATED:20250304T010014Z
LAST-MODIFIED:20250902T150143Z
UID:30001084-1800792000-1800806400@www.kpacho.com
SUMMARY:Spanglish Sundays A Brunch Fiesta at K. Pacho
DESCRIPTION:
URL:https://www.kpacho.com/event/spanglish-sundays-a-brunch-fiesta-at-k-pacho/2027-01-24/
LOCATION:K. Pacho\, 1270 Union Turnpike\, New Hyde Park\, NY\, 11040\, United States
CATEGORIES:Weekly
ATTACH;FMTTYPE=image/jpeg:https://www.kpacho.com/wp-content/uploads/2025/03/1159d8f7-fd78-44d5-95e2-8dc9a1679b7a.jpg
GEO:40.7529;-73.6993
X-APPLE-STRUCTURED-LOCATION;VALUE=URI;X-ADDRESS=K. Pacho 1270 Union Turnpike New Hyde Park NY 11040 United States;X-APPLE-RADIUS=500;X-TITLE=1270 Union Turnpike:geo:-73.6993,40.7529
END:VEVENT
BEGIN:VEVENT
DTSTART;TZID=America/New_York:20270129T150000
DTEND;TZID=America/New_York:20270129T180000
DTSTAMP:20260420T013003
CREATED:20250827T230335Z
LAST-MODIFIED:20250916T234546Z
UID:30004165-1801234800-1801245600@www.kpacho.com
SUMMARY:K.Vida Loca at K. Pacho Every Friday
DESCRIPTION:
URL:https://www.kpacho.com/event/k-vida-loca-at-k-pacho-every-friday/2027-01-29/
LOCATION:K. Pacho\, 1270 Union Turnpike\, New Hyde Park\, NY\, 11040\, United States
CATEGORIES:Weekly
ATTACH;FMTTYPE=image/jpeg:https://www.kpacho.com/wp-content/uploads/2025/08/WhatsApp-Image-2025-08-27-at-14.47.58.jpeg
GEO:40.7529;-73.6993
X-APPLE-STRUCTURED-LOCATION;VALUE=URI;X-ADDRESS=K. Pacho 1270 Union Turnpike New Hyde Park NY 11040 United States;X-APPLE-RADIUS=500;X-TITLE=1270 Union Turnpike:geo:-73.6993,40.7529
END:VEVENT
BEGIN:VEVENT
DTSTART;TZID=America/New_York:20270131T120000
DTEND;TZID=America/New_York:20270131T160000
DTSTAMP:20260420T013003
CREATED:20250304T010014Z
LAST-MODIFIED:20250902T150143Z
UID:30001085-1801396800-1801411200@www.kpacho.com
SUMMARY:Spanglish Sundays A Brunch Fiesta at K. Pacho
DESCRIPTION:
URL:https://www.kpacho.com/event/spanglish-sundays-a-brunch-fiesta-at-k-pacho/2027-01-31/
LOCATION:K. Pacho\, 1270 Union Turnpike\, New Hyde Park\, NY\, 11040\, United States
CATEGORIES:Weekly
ATTACH;FMTTYPE=image/jpeg:https://www.kpacho.com/wp-content/uploads/2025/03/1159d8f7-fd78-44d5-95e2-8dc9a1679b7a.jpg
GEO:40.7529;-73.6993
X-APPLE-STRUCTURED-LOCATION;VALUE=URI;X-ADDRESS=K. Pacho 1270 Union Turnpike New Hyde Park NY 11040 United States;X-APPLE-RADIUS=500;X-TITLE=1270 Union Turnpike:geo:-73.6993,40.7529
END:VEVENT
BEGIN:VEVENT
DTSTART;TZID=America/New_York:20270205T150000
DTEND;TZID=America/New_York:20270205T180000
DTSTAMP:20260420T013003
CREATED:20250827T230335Z
LAST-MODIFIED:20250916T234546Z
UID:30004166-1801839600-1801850400@www.kpacho.com
SUMMARY:K.Vida Loca at K. Pacho Every Friday
DESCRIPTION:
URL:https://www.kpacho.com/event/k-vida-loca-at-k-pacho-every-friday/2027-02-05/
LOCATION:K. Pacho\, 1270 Union Turnpike\, New Hyde Park\, NY\, 11040\, United States
CATEGORIES:Weekly
ATTACH;FMTTYPE=image/jpeg:https://www.kpacho.com/wp-content/uploads/2025/08/WhatsApp-Image-2025-08-27-at-14.47.58.jpeg
GEO:40.7529;-73.6993
X-APPLE-STRUCTURED-LOCATION;VALUE=URI;X-ADDRESS=K. Pacho 1270 Union Turnpike New Hyde Park NY 11040 United States;X-APPLE-RADIUS=500;X-TITLE=1270 Union Turnpike:geo:-73.6993,40.7529
END:VEVENT
BEGIN:VEVENT
DTSTART;TZID=America/New_York:20270207T120000
DTEND;TZID=America/New_York:20270207T160000
DTSTAMP:20260420T013003
CREATED:20250304T010014Z
LAST-MODIFIED:20250902T150143Z
UID:30001086-1802001600-1802016000@www.kpacho.com
SUMMARY:Spanglish Sundays A Brunch Fiesta at K. Pacho
DESCRIPTION:
URL:https://www.kpacho.com/event/spanglish-sundays-a-brunch-fiesta-at-k-pacho/2027-02-07/
LOCATION:K. Pacho\, 1270 Union Turnpike\, New Hyde Park\, NY\, 11040\, United States
CATEGORIES:Weekly
ATTACH;FMTTYPE=image/jpeg:https://www.kpacho.com/wp-content/uploads/2025/03/1159d8f7-fd78-44d5-95e2-8dc9a1679b7a.jpg
GEO:40.7529;-73.6993
X-APPLE-STRUCTURED-LOCATION;VALUE=URI;X-ADDRESS=K. Pacho 1270 Union Turnpike New Hyde Park NY 11040 United States;X-APPLE-RADIUS=500;X-TITLE=1270 Union Turnpike:geo:-73.6993,40.7529
END:VEVENT
BEGIN:VEVENT
DTSTART;TZID=America/New_York:20270212T150000
DTEND;TZID=America/New_York:20270212T180000
DTSTAMP:20260420T013003
CREATED:20250827T230335Z
LAST-MODIFIED:20250916T234546Z
UID:30004167-1802444400-1802455200@www.kpacho.com
SUMMARY:K.Vida Loca at K. Pacho Every Friday
DESCRIPTION:
URL:https://www.kpacho.com/event/k-vida-loca-at-k-pacho-every-friday/2027-02-12/
LOCATION:K. Pacho\, 1270 Union Turnpike\, New Hyde Park\, NY\, 11040\, United States
CATEGORIES:Weekly
ATTACH;FMTTYPE=image/jpeg:https://www.kpacho.com/wp-content/uploads/2025/08/WhatsApp-Image-2025-08-27-at-14.47.58.jpeg
GEO:40.7529;-73.6993
X-APPLE-STRUCTURED-LOCATION;VALUE=URI;X-ADDRESS=K. Pacho 1270 Union Turnpike New Hyde Park NY 11040 United States;X-APPLE-RADIUS=500;X-TITLE=1270 Union Turnpike:geo:-73.6993,40.7529
END:VEVENT
BEGIN:VEVENT
DTSTART;TZID=America/New_York:20270214T120000
DTEND;TZID=America/New_York:20270214T160000
DTSTAMP:20260420T013003
CREATED:20250304T010014Z
LAST-MODIFIED:20250902T150143Z
UID:30001087-1802606400-1802620800@www.kpacho.com
SUMMARY:Spanglish Sundays A Brunch Fiesta at K. Pacho
DESCRIPTION:
URL:https://www.kpacho.com/event/spanglish-sundays-a-brunch-fiesta-at-k-pacho/2027-02-14/
LOCATION:K. Pacho\, 1270 Union Turnpike\, New Hyde Park\, NY\, 11040\, United States
CATEGORIES:Weekly
ATTACH;FMTTYPE=image/jpeg:https://www.kpacho.com/wp-content/uploads/2025/03/1159d8f7-fd78-44d5-95e2-8dc9a1679b7a.jpg
GEO:40.7529;-73.6993
X-APPLE-STRUCTURED-LOCATION;VALUE=URI;X-ADDRESS=K. Pacho 1270 Union Turnpike New Hyde Park NY 11040 United States;X-APPLE-RADIUS=500;X-TITLE=1270 Union Turnpike:geo:-73.6993,40.7529
END:VEVENT
BEGIN:VEVENT
DTSTART;TZID=America/New_York:20270219T150000
DTEND;TZID=America/New_York:20270219T180000
DTSTAMP:20260420T013003
CREATED:20250827T230335Z
LAST-MODIFIED:20250916T234546Z
UID:30004168-1803049200-1803060000@www.kpacho.com
SUMMARY:K.Vida Loca at K. Pacho Every Friday
DESCRIPTION:
URL:https://www.kpacho.com/event/k-vida-loca-at-k-pacho-every-friday/2027-02-19/
LOCATION:K. Pacho\, 1270 Union Turnpike\, New Hyde Park\, NY\, 11040\, United States
CATEGORIES:Weekly
ATTACH;FMTTYPE=image/jpeg:https://www.kpacho.com/wp-content/uploads/2025/08/WhatsApp-Image-2025-08-27-at-14.47.58.jpeg
GEO:40.7529;-73.6993
X-APPLE-STRUCTURED-LOCATION;VALUE=URI;X-ADDRESS=K. Pacho 1270 Union Turnpike New Hyde Park NY 11040 United States;X-APPLE-RADIUS=500;X-TITLE=1270 Union Turnpike:geo:-73.6993,40.7529
END:VEVENT
BEGIN:VEVENT
DTSTART;TZID=America/New_York:20270221T120000
DTEND;TZID=America/New_York:20270221T160000
DTSTAMP:20260420T013003
CREATED:20250304T010014Z
LAST-MODIFIED:20250902T150143Z
UID:30001088-1803211200-1803225600@www.kpacho.com
SUMMARY:Spanglish Sundays A Brunch Fiesta at K. Pacho
DESCRIPTION:
URL:https://www.kpacho.com/event/spanglish-sundays-a-brunch-fiesta-at-k-pacho/2027-02-21/
LOCATION:K. Pacho\, 1270 Union Turnpike\, New Hyde Park\, NY\, 11040\, United States
CATEGORIES:Weekly
ATTACH;FMTTYPE=image/jpeg:https://www.kpacho.com/wp-content/uploads/2025/03/1159d8f7-fd78-44d5-95e2-8dc9a1679b7a.jpg
GEO:40.7529;-73.6993
X-APPLE-STRUCTURED-LOCATION;VALUE=URI;X-ADDRESS=K. Pacho 1270 Union Turnpike New Hyde Park NY 11040 United States;X-APPLE-RADIUS=500;X-TITLE=1270 Union Turnpike:geo:-73.6993,40.7529
END:VEVENT
BEGIN:VEVENT
DTSTART;TZID=America/New_York:20270226T150000
DTEND;TZID=America/New_York:20270226T180000
DTSTAMP:20260420T013004
CREATED:20250827T230335Z
LAST-MODIFIED:20250916T234546Z
UID:30004169-1803654000-1803664800@www.kpacho.com
SUMMARY:K.Vida Loca at K. Pacho Every Friday
DESCRIPTION:
URL:https://www.kpacho.com/event/k-vida-loca-at-k-pacho-every-friday/2027-02-26/
LOCATION:K. Pacho\, 1270 Union Turnpike\, New Hyde Park\, NY\, 11040\, United States
CATEGORIES:Weekly
ATTACH;FMTTYPE=image/jpeg:https://www.kpacho.com/wp-content/uploads/2025/08/WhatsApp-Image-2025-08-27-at-14.47.58.jpeg
GEO:40.7529;-73.6993
X-APPLE-STRUCTURED-LOCATION;VALUE=URI;X-ADDRESS=K. Pacho 1270 Union Turnpike New Hyde Park NY 11040 United States;X-APPLE-RADIUS=500;X-TITLE=1270 Union Turnpike:geo:-73.6993,40.7529
END:VEVENT
BEGIN:VEVENT
DTSTART;TZID=America/New_York:20270228T120000
DTEND;TZID=America/New_York:20270228T160000
DTSTAMP:20260420T013004
CREATED:20250304T010014Z
LAST-MODIFIED:20250902T150143Z
UID:30001089-1803816000-1803830400@www.kpacho.com
SUMMARY:Spanglish Sundays A Brunch Fiesta at K. Pacho
DESCRIPTION:
URL:https://www.kpacho.com/event/spanglish-sundays-a-brunch-fiesta-at-k-pacho/2027-02-28/
LOCATION:K. Pacho\, 1270 Union Turnpike\, New Hyde Park\, NY\, 11040\, United States
CATEGORIES:Weekly
ATTACH;FMTTYPE=image/jpeg:https://www.kpacho.com/wp-content/uploads/2025/03/1159d8f7-fd78-44d5-95e2-8dc9a1679b7a.jpg
GEO:40.7529;-73.6993
X-APPLE-STRUCTURED-LOCATION;VALUE=URI;X-ADDRESS=K. Pacho 1270 Union Turnpike New Hyde Park NY 11040 United States;X-APPLE-RADIUS=500;X-TITLE=1270 Union Turnpike:geo:-73.6993,40.7529
END:VEVENT
BEGIN:VEVENT
DTSTART;TZID=America/New_York:20270305T150000
DTEND;TZID=America/New_York:20270305T180000
DTSTAMP:20260420T013004
CREATED:20250827T230335Z
LAST-MODIFIED:20250916T234546Z
UID:30004170-1804258800-1804269600@www.kpacho.com
SUMMARY:K.Vida Loca at K. Pacho Every Friday
DESCRIPTION:
URL:https://www.kpacho.com/event/k-vida-loca-at-k-pacho-every-friday/2027-03-05/
LOCATION:K. Pacho\, 1270 Union Turnpike\, New Hyde Park\, NY\, 11040\, United States
CATEGORIES:Weekly
ATTACH;FMTTYPE=image/jpeg:https://www.kpacho.com/wp-content/uploads/2025/08/WhatsApp-Image-2025-08-27-at-14.47.58.jpeg
GEO:40.7529;-73.6993
X-APPLE-STRUCTURED-LOCATION;VALUE=URI;X-ADDRESS=K. Pacho 1270 Union Turnpike New Hyde Park NY 11040 United States;X-APPLE-RADIUS=500;X-TITLE=1270 Union Turnpike:geo:-73.6993,40.7529
END:VEVENT
BEGIN:VEVENT
DTSTART;TZID=America/New_York:20270307T120000
DTEND;TZID=America/New_York:20270307T160000
DTSTAMP:20260420T013004
CREATED:20250304T010014Z
LAST-MODIFIED:20250902T150143Z
UID:30001090-1804420800-1804435200@www.kpacho.com
SUMMARY:Spanglish Sundays A Brunch Fiesta at K. Pacho
DESCRIPTION:
URL:https://www.kpacho.com/event/spanglish-sundays-a-brunch-fiesta-at-k-pacho/2027-03-07/
LOCATION:K. Pacho\, 1270 Union Turnpike\, New Hyde Park\, NY\, 11040\, United States
CATEGORIES:Weekly
ATTACH;FMTTYPE=image/jpeg:https://www.kpacho.com/wp-content/uploads/2025/03/1159d8f7-fd78-44d5-95e2-8dc9a1679b7a.jpg
GEO:40.7529;-73.6993
X-APPLE-STRUCTURED-LOCATION;VALUE=URI;X-ADDRESS=K. Pacho 1270 Union Turnpike New Hyde Park NY 11040 United States;X-APPLE-RADIUS=500;X-TITLE=1270 Union Turnpike:geo:-73.6993,40.7529
END:VEVENT
BEGIN:VEVENT
DTSTART;TZID=America/New_York:20270312T150000
DTEND;TZID=America/New_York:20270312T180000
DTSTAMP:20260420T013004
CREATED:20250827T230335Z
LAST-MODIFIED:20250916T234546Z
UID:30004171-1804863600-1804874400@www.kpacho.com
SUMMARY:K.Vida Loca at K. Pacho Every Friday
DESCRIPTION:
URL:https://www.kpacho.com/event/k-vida-loca-at-k-pacho-every-friday/2027-03-12/
LOCATION:K. Pacho\, 1270 Union Turnpike\, New Hyde Park\, NY\, 11040\, United States
CATEGORIES:Weekly
ATTACH;FMTTYPE=image/jpeg:https://www.kpacho.com/wp-content/uploads/2025/08/WhatsApp-Image-2025-08-27-at-14.47.58.jpeg
GEO:40.7529;-73.6993
X-APPLE-STRUCTURED-LOCATION;VALUE=URI;X-ADDRESS=K. Pacho 1270 Union Turnpike New Hyde Park NY 11040 United States;X-APPLE-RADIUS=500;X-TITLE=1270 Union Turnpike:geo:-73.6993,40.7529
END:VEVENT
BEGIN:VEVENT
DTSTART;TZID=America/New_York:20270314T120000
DTEND;TZID=America/New_York:20270314T160000
DTSTAMP:20260420T013004
CREATED:20250304T010014Z
LAST-MODIFIED:20250902T150143Z
UID:30001091-1805025600-1805040000@www.kpacho.com
SUMMARY:Spanglish Sundays A Brunch Fiesta at K. Pacho
DESCRIPTION:
URL:https://www.kpacho.com/event/spanglish-sundays-a-brunch-fiesta-at-k-pacho/2027-03-14/
LOCATION:K. Pacho\, 1270 Union Turnpike\, New Hyde Park\, NY\, 11040\, United States
CATEGORIES:Weekly
ATTACH;FMTTYPE=image/jpeg:https://www.kpacho.com/wp-content/uploads/2025/03/1159d8f7-fd78-44d5-95e2-8dc9a1679b7a.jpg
GEO:40.7529;-73.6993
X-APPLE-STRUCTURED-LOCATION;VALUE=URI;X-ADDRESS=K. Pacho 1270 Union Turnpike New Hyde Park NY 11040 United States;X-APPLE-RADIUS=500;X-TITLE=1270 Union Turnpike:geo:-73.6993,40.7529
END:VEVENT
BEGIN:VEVENT
DTSTART;TZID=America/New_York:20270319T150000
DTEND;TZID=America/New_York:20270319T180000
DTSTAMP:20260420T013004
CREATED:20250827T230335Z
LAST-MODIFIED:20250916T234546Z
UID:30004172-1805468400-1805479200@www.kpacho.com
SUMMARY:K.Vida Loca at K. Pacho Every Friday
DESCRIPTION:
URL:https://www.kpacho.com/event/k-vida-loca-at-k-pacho-every-friday/2027-03-19/
LOCATION:K. Pacho\, 1270 Union Turnpike\, New Hyde Park\, NY\, 11040\, United States
CATEGORIES:Weekly
ATTACH;FMTTYPE=image/jpeg:https://www.kpacho.com/wp-content/uploads/2025/08/WhatsApp-Image-2025-08-27-at-14.47.58.jpeg
GEO:40.7529;-73.6993
X-APPLE-STRUCTURED-LOCATION;VALUE=URI;X-ADDRESS=K. Pacho 1270 Union Turnpike New Hyde Park NY 11040 United States;X-APPLE-RADIUS=500;X-TITLE=1270 Union Turnpike:geo:-73.6993,40.7529
END:VEVENT
BEGIN:VEVENT
DTSTART;TZID=America/New_York:20270321T120000
DTEND;TZID=America/New_York:20270321T160000
DTSTAMP:20260420T013004
CREATED:20250304T010014Z
LAST-MODIFIED:20250902T150143Z
UID:30001092-1805630400-1805644800@www.kpacho.com
SUMMARY:Spanglish Sundays A Brunch Fiesta at K. Pacho
DESCRIPTION:
URL:https://www.kpacho.com/event/spanglish-sundays-a-brunch-fiesta-at-k-pacho/2027-03-21/
LOCATION:K. Pacho\, 1270 Union Turnpike\, New Hyde Park\, NY\, 11040\, United States
CATEGORIES:Weekly
ATTACH;FMTTYPE=image/jpeg:https://www.kpacho.com/wp-content/uploads/2025/03/1159d8f7-fd78-44d5-95e2-8dc9a1679b7a.jpg
GEO:40.7529;-73.6993
X-APPLE-STRUCTURED-LOCATION;VALUE=URI;X-ADDRESS=K. Pacho 1270 Union Turnpike New Hyde Park NY 11040 United States;X-APPLE-RADIUS=500;X-TITLE=1270 Union Turnpike:geo:-73.6993,40.7529
END:VEVENT
BEGIN:VEVENT
DTSTART;TZID=America/New_York:20270326T150000
DTEND;TZID=America/New_York:20270326T180000
DTSTAMP:20260420T013004
CREATED:20250827T230335Z
LAST-MODIFIED:20250916T234546Z
UID:30004173-1806073200-1806084000@www.kpacho.com
SUMMARY:K.Vida Loca at K. Pacho Every Friday
DESCRIPTION:
URL:https://www.kpacho.com/event/k-vida-loca-at-k-pacho-every-friday/2027-03-26/
LOCATION:K. Pacho\, 1270 Union Turnpike\, New Hyde Park\, NY\, 11040\, United States
CATEGORIES:Weekly
ATTACH;FMTTYPE=image/jpeg:https://www.kpacho.com/wp-content/uploads/2025/08/WhatsApp-Image-2025-08-27-at-14.47.58.jpeg
GEO:40.7529;-73.6993
X-APPLE-STRUCTURED-LOCATION;VALUE=URI;X-ADDRESS=K. Pacho 1270 Union Turnpike New Hyde Park NY 11040 United States;X-APPLE-RADIUS=500;X-TITLE=1270 Union Turnpike:geo:-73.6993,40.7529
END:VEVENT
BEGIN:VEVENT
DTSTART;TZID=America/New_York:20270328T120000
DTEND;TZID=America/New_York:20270328T160000
DTSTAMP:20260420T013004
CREATED:20250304T010014Z
LAST-MODIFIED:20250902T150143Z
UID:30001093-1806235200-1806249600@www.kpacho.com
SUMMARY:Spanglish Sundays A Brunch Fiesta at K. Pacho
DESCRIPTION:
URL:https://www.kpacho.com/event/spanglish-sundays-a-brunch-fiesta-at-k-pacho/2027-03-28/
LOCATION:K. Pacho\, 1270 Union Turnpike\, New Hyde Park\, NY\, 11040\, United States
CATEGORIES:Weekly
ATTACH;FMTTYPE=image/jpeg:https://www.kpacho.com/wp-content/uploads/2025/03/1159d8f7-fd78-44d5-95e2-8dc9a1679b7a.jpg
GEO:40.7529;-73.6993
X-APPLE-STRUCTURED-LOCATION;VALUE=URI;X-ADDRESS=K. Pacho 1270 Union Turnpike New Hyde Park NY 11040 United States;X-APPLE-RADIUS=500;X-TITLE=1270 Union Turnpike:geo:-73.6993,40.7529
END:VEVENT
BEGIN:VEVENT
DTSTART;TZID=America/New_York:20270402T150000
DTEND;TZID=America/New_York:20270402T180000
DTSTAMP:20260420T013004
CREATED:20250827T230335Z
LAST-MODIFIED:20250916T234546Z
UID:30004174-1806678000-1806688800@www.kpacho.com
SUMMARY:K.Vida Loca at K. Pacho Every Friday
DESCRIPTION:
URL:https://www.kpacho.com/event/k-vida-loca-at-k-pacho-every-friday/2027-04-02/
LOCATION:K. Pacho\, 1270 Union Turnpike\, New Hyde Park\, NY\, 11040\, United States
CATEGORIES:Weekly
ATTACH;FMTTYPE=image/jpeg:https://www.kpacho.com/wp-content/uploads/2025/08/WhatsApp-Image-2025-08-27-at-14.47.58.jpeg
GEO:40.7529;-73.6993
X-APPLE-STRUCTURED-LOCATION;VALUE=URI;X-ADDRESS=K. Pacho 1270 Union Turnpike New Hyde Park NY 11040 United States;X-APPLE-RADIUS=500;X-TITLE=1270 Union Turnpike:geo:-73.6993,40.7529
END:VEVENT
BEGIN:VEVENT
DTSTART;TZID=America/New_York:20270404T120000
DTEND;TZID=America/New_York:20270404T160000
DTSTAMP:20260420T013004
CREATED:20250304T010014Z
LAST-MODIFIED:20250902T150143Z
UID:30001094-1806840000-1806854400@www.kpacho.com
SUMMARY:Spanglish Sundays A Brunch Fiesta at K. Pacho
DESCRIPTION:
URL:https://www.kpacho.com/event/spanglish-sundays-a-brunch-fiesta-at-k-pacho/2027-04-04/
LOCATION:K. Pacho\, 1270 Union Turnpike\, New Hyde Park\, NY\, 11040\, United States
CATEGORIES:Weekly
ATTACH;FMTTYPE=image/jpeg:https://www.kpacho.com/wp-content/uploads/2025/03/1159d8f7-fd78-44d5-95e2-8dc9a1679b7a.jpg
GEO:40.7529;-73.6993
X-APPLE-STRUCTURED-LOCATION;VALUE=URI;X-ADDRESS=K. Pacho 1270 Union Turnpike New Hyde Park NY 11040 United States;X-APPLE-RADIUS=500;X-TITLE=1270 Union Turnpike:geo:-73.6993,40.7529
END:VEVENT
BEGIN:VEVENT
DTSTART;TZID=America/New_York:20270409T150000
DTEND;TZID=America/New_York:20270409T180000
DTSTAMP:20260420T013004
CREATED:20250827T230335Z
LAST-MODIFIED:20250916T234546Z
UID:30004175-1807282800-1807293600@www.kpacho.com
SUMMARY:K.Vida Loca at K. Pacho Every Friday
DESCRIPTION:
URL:https://www.kpacho.com/event/k-vida-loca-at-k-pacho-every-friday/2027-04-09/
LOCATION:K. Pacho\, 1270 Union Turnpike\, New Hyde Park\, NY\, 11040\, United States
CATEGORIES:Weekly
ATTACH;FMTTYPE=image/jpeg:https://www.kpacho.com/wp-content/uploads/2025/08/WhatsApp-Image-2025-08-27-at-14.47.58.jpeg
GEO:40.7529;-73.6993
X-APPLE-STRUCTURED-LOCATION;VALUE=URI;X-ADDRESS=K. Pacho 1270 Union Turnpike New Hyde Park NY 11040 United States;X-APPLE-RADIUS=500;X-TITLE=1270 Union Turnpike:geo:-73.6993,40.7529
END:VEVENT
BEGIN:VEVENT
DTSTART;TZID=America/New_York:20270411T120000
DTEND;TZID=America/New_York:20270411T160000
DTSTAMP:20260420T013004
CREATED:20250304T010014Z
LAST-MODIFIED:20250902T150143Z
UID:30001095-1807444800-1807459200@www.kpacho.com
SUMMARY:Spanglish Sundays A Brunch Fiesta at K. Pacho
DESCRIPTION:
URL:https://www.kpacho.com/event/spanglish-sundays-a-brunch-fiesta-at-k-pacho/2027-04-11/
LOCATION:K. Pacho\, 1270 Union Turnpike\, New Hyde Park\, NY\, 11040\, United States
CATEGORIES:Weekly
ATTACH;FMTTYPE=image/jpeg:https://www.kpacho.com/wp-content/uploads/2025/03/1159d8f7-fd78-44d5-95e2-8dc9a1679b7a.jpg
GEO:40.7529;-73.6993
X-APPLE-STRUCTURED-LOCATION;VALUE=URI;X-ADDRESS=K. Pacho 1270 Union Turnpike New Hyde Park NY 11040 United States;X-APPLE-RADIUS=500;X-TITLE=1270 Union Turnpike:geo:-73.6993,40.7529
END:VEVENT
BEGIN:VEVENT
DTSTART;TZID=America/New_York:20270416T150000
DTEND;TZID=America/New_York:20270416T180000
DTSTAMP:20260420T013004
CREATED:20250827T230335Z
LAST-MODIFIED:20250916T234546Z
UID:30004176-1807887600-1807898400@www.kpacho.com
SUMMARY:K.Vida Loca at K. Pacho Every Friday
DESCRIPTION:
URL:https://www.kpacho.com/event/k-vida-loca-at-k-pacho-every-friday/2027-04-16/
LOCATION:K. Pacho\, 1270 Union Turnpike\, New Hyde Park\, NY\, 11040\, United States
CATEGORIES:Weekly
ATTACH;FMTTYPE=image/jpeg:https://www.kpacho.com/wp-content/uploads/2025/08/WhatsApp-Image-2025-08-27-at-14.47.58.jpeg
GEO:40.7529;-73.6993
X-APPLE-STRUCTURED-LOCATION;VALUE=URI;X-ADDRESS=K. Pacho 1270 Union Turnpike New Hyde Park NY 11040 United States;X-APPLE-RADIUS=500;X-TITLE=1270 Union Turnpike:geo:-73.6993,40.7529
END:VEVENT
END:VCALENDAR