BEGIN:VCALENDAR
VERSION:2.0
PRODID:-//K. Pacho | Mexican Restaurant &amp; Catering Venue in New Hyde Park, Long Island - ECPv6.15.20//NONSGML v1.0//EN
CALSCALE:GREGORIAN
METHOD:PUBLISH
X-ORIGINAL-URL:https://www.kpacho.com
X-WR-CALDESC:Events for K. Pacho | Mexican Restaurant &amp; Catering Venue in New Hyde Park, Long Island
REFRESH-INTERVAL;VALUE=DURATION:PT1H
X-Robots-Tag:noindex
X-PUBLISHED-TTL:PT1H
BEGIN:VTIMEZONE
TZID:America/New_York
BEGIN:DAYLIGHT
TZOFFSETFROM:-0500
TZOFFSETTO:-0400
TZNAME:EDT
DTSTART:20280312T070000
END:DAYLIGHT
BEGIN:STANDARD
TZOFFSETFROM:-0400
TZOFFSETTO:-0500
TZNAME:EST
DTSTART:20281105T060000
END:STANDARD
BEGIN:DAYLIGHT
TZOFFSETFROM:-0500
TZOFFSETTO:-0400
TZNAME:EDT
DTSTART:20290311T070000
END:DAYLIGHT
BEGIN:STANDARD
TZOFFSETFROM:-0400
TZOFFSETTO:-0500
TZNAME:EST
DTSTART:20291104T060000
END:STANDARD
BEGIN:DAYLIGHT
TZOFFSETFROM:-0500
TZOFFSETTO:-0400
TZNAME:EDT
DTSTART:20300310T070000
END:DAYLIGHT
BEGIN:STANDARD
TZOFFSETFROM:-0400
TZOFFSETTO:-0500
TZNAME:EST
DTSTART:20301103T060000
END:STANDARD
BEGIN:DAYLIGHT
TZOFFSETFROM:-0500
TZOFFSETTO:-0400
TZNAME:EDT
DTSTART:20310309T070000
END:DAYLIGHT
BEGIN:STANDARD
TZOFFSETFROM:-0400
TZOFFSETTO:-0500
TZNAME:EST
DTSTART:20311102T060000
END:STANDARD
END:VTIMEZONE
BEGIN:VEVENT
DTSTART;TZID=America/New_York:20291109T150000
DTEND;TZID=America/New_York:20291109T180000
DTSTAMP:20260421T212655
CREATED:20250827T230335Z
LAST-MODIFIED:20250916T234546Z
UID:30004310-1888930800-1888941600@www.kpacho.com
SUMMARY:K.Vida Loca at K. Pacho Every Friday
DESCRIPTION:
URL:https://www.kpacho.com/event/k-vida-loca-at-k-pacho-every-friday/2029-11-09/
LOCATION:K. Pacho\, 1270 Union Turnpike\, New Hyde Park\, NY\, 11040\, United States
CATEGORIES:Weekly
ATTACH;FMTTYPE=image/jpeg:https://www.kpacho.com/wp-content/uploads/2025/08/WhatsApp-Image-2025-08-27-at-14.47.58.jpeg
GEO:40.7529;-73.6993
X-APPLE-STRUCTURED-LOCATION;VALUE=URI;X-ADDRESS=K. Pacho 1270 Union Turnpike New Hyde Park NY 11040 United States;X-APPLE-RADIUS=500;X-TITLE=1270 Union Turnpike:geo:-73.6993,40.7529
END:VEVENT
BEGIN:VEVENT
DTSTART;TZID=America/New_York:20291111T120000
DTEND;TZID=America/New_York:20291111T160000
DTSTAMP:20260421T212655
CREATED:20250304T010014Z
LAST-MODIFIED:20250902T150143Z
UID:30001230-1889092800-1889107200@www.kpacho.com
SUMMARY:Spanglish Sundays A Brunch Fiesta at K. Pacho
DESCRIPTION:
URL:https://www.kpacho.com/event/spanglish-sundays-a-brunch-fiesta-at-k-pacho/2029-11-11/
LOCATION:K. Pacho\, 1270 Union Turnpike\, New Hyde Park\, NY\, 11040\, United States
CATEGORIES:Weekly
ATTACH;FMTTYPE=image/jpeg:https://www.kpacho.com/wp-content/uploads/2025/03/1159d8f7-fd78-44d5-95e2-8dc9a1679b7a.jpg
GEO:40.7529;-73.6993
X-APPLE-STRUCTURED-LOCATION;VALUE=URI;X-ADDRESS=K. Pacho 1270 Union Turnpike New Hyde Park NY 11040 United States;X-APPLE-RADIUS=500;X-TITLE=1270 Union Turnpike:geo:-73.6993,40.7529
END:VEVENT
BEGIN:VEVENT
DTSTART;TZID=America/New_York:20291116T150000
DTEND;TZID=America/New_York:20291116T180000
DTSTAMP:20260421T212655
CREATED:20250827T230335Z
LAST-MODIFIED:20250916T234546Z
UID:30004311-1889535600-1889546400@www.kpacho.com
SUMMARY:K.Vida Loca at K. Pacho Every Friday
DESCRIPTION:
URL:https://www.kpacho.com/event/k-vida-loca-at-k-pacho-every-friday/2029-11-16/
LOCATION:K. Pacho\, 1270 Union Turnpike\, New Hyde Park\, NY\, 11040\, United States
CATEGORIES:Weekly
ATTACH;FMTTYPE=image/jpeg:https://www.kpacho.com/wp-content/uploads/2025/08/WhatsApp-Image-2025-08-27-at-14.47.58.jpeg
GEO:40.7529;-73.6993
X-APPLE-STRUCTURED-LOCATION;VALUE=URI;X-ADDRESS=K. Pacho 1270 Union Turnpike New Hyde Park NY 11040 United States;X-APPLE-RADIUS=500;X-TITLE=1270 Union Turnpike:geo:-73.6993,40.7529
END:VEVENT
BEGIN:VEVENT
DTSTART;TZID=America/New_York:20291118T120000
DTEND;TZID=America/New_York:20291118T160000
DTSTAMP:20260421T212655
CREATED:20250304T010014Z
LAST-MODIFIED:20250902T150143Z
UID:30001231-1889697600-1889712000@www.kpacho.com
SUMMARY:Spanglish Sundays A Brunch Fiesta at K. Pacho
DESCRIPTION:
URL:https://www.kpacho.com/event/spanglish-sundays-a-brunch-fiesta-at-k-pacho/2029-11-18/
LOCATION:K. Pacho\, 1270 Union Turnpike\, New Hyde Park\, NY\, 11040\, United States
CATEGORIES:Weekly
ATTACH;FMTTYPE=image/jpeg:https://www.kpacho.com/wp-content/uploads/2025/03/1159d8f7-fd78-44d5-95e2-8dc9a1679b7a.jpg
GEO:40.7529;-73.6993
X-APPLE-STRUCTURED-LOCATION;VALUE=URI;X-ADDRESS=K. Pacho 1270 Union Turnpike New Hyde Park NY 11040 United States;X-APPLE-RADIUS=500;X-TITLE=1270 Union Turnpike:geo:-73.6993,40.7529
END:VEVENT
BEGIN:VEVENT
DTSTART;TZID=America/New_York:20291123T150000
DTEND;TZID=America/New_York:20291123T180000
DTSTAMP:20260421T212655
CREATED:20250827T230335Z
LAST-MODIFIED:20250916T234546Z
UID:30004312-1890140400-1890151200@www.kpacho.com
SUMMARY:K.Vida Loca at K. Pacho Every Friday
DESCRIPTION:
URL:https://www.kpacho.com/event/k-vida-loca-at-k-pacho-every-friday/2029-11-23/
LOCATION:K. Pacho\, 1270 Union Turnpike\, New Hyde Park\, NY\, 11040\, United States
CATEGORIES:Weekly
ATTACH;FMTTYPE=image/jpeg:https://www.kpacho.com/wp-content/uploads/2025/08/WhatsApp-Image-2025-08-27-at-14.47.58.jpeg
GEO:40.7529;-73.6993
X-APPLE-STRUCTURED-LOCATION;VALUE=URI;X-ADDRESS=K. Pacho 1270 Union Turnpike New Hyde Park NY 11040 United States;X-APPLE-RADIUS=500;X-TITLE=1270 Union Turnpike:geo:-73.6993,40.7529
END:VEVENT
BEGIN:VEVENT
DTSTART;TZID=America/New_York:20291125T120000
DTEND;TZID=America/New_York:20291125T160000
DTSTAMP:20260421T212655
CREATED:20250304T010014Z
LAST-MODIFIED:20250902T150143Z
UID:30001232-1890302400-1890316800@www.kpacho.com
SUMMARY:Spanglish Sundays A Brunch Fiesta at K. Pacho
DESCRIPTION:
URL:https://www.kpacho.com/event/spanglish-sundays-a-brunch-fiesta-at-k-pacho/2029-11-25/
LOCATION:K. Pacho\, 1270 Union Turnpike\, New Hyde Park\, NY\, 11040\, United States
CATEGORIES:Weekly
ATTACH;FMTTYPE=image/jpeg:https://www.kpacho.com/wp-content/uploads/2025/03/1159d8f7-fd78-44d5-95e2-8dc9a1679b7a.jpg
GEO:40.7529;-73.6993
X-APPLE-STRUCTURED-LOCATION;VALUE=URI;X-ADDRESS=K. Pacho 1270 Union Turnpike New Hyde Park NY 11040 United States;X-APPLE-RADIUS=500;X-TITLE=1270 Union Turnpike:geo:-73.6993,40.7529
END:VEVENT
BEGIN:VEVENT
DTSTART;TZID=America/New_York:20291130T150000
DTEND;TZID=America/New_York:20291130T180000
DTSTAMP:20260421T212655
CREATED:20250827T230335Z
LAST-MODIFIED:20250916T234546Z
UID:30004313-1890745200-1890756000@www.kpacho.com
SUMMARY:K.Vida Loca at K. Pacho Every Friday
DESCRIPTION:
URL:https://www.kpacho.com/event/k-vida-loca-at-k-pacho-every-friday/2029-11-30/
LOCATION:K. Pacho\, 1270 Union Turnpike\, New Hyde Park\, NY\, 11040\, United States
CATEGORIES:Weekly
ATTACH;FMTTYPE=image/jpeg:https://www.kpacho.com/wp-content/uploads/2025/08/WhatsApp-Image-2025-08-27-at-14.47.58.jpeg
GEO:40.7529;-73.6993
X-APPLE-STRUCTURED-LOCATION;VALUE=URI;X-ADDRESS=K. Pacho 1270 Union Turnpike New Hyde Park NY 11040 United States;X-APPLE-RADIUS=500;X-TITLE=1270 Union Turnpike:geo:-73.6993,40.7529
END:VEVENT
BEGIN:VEVENT
DTSTART;TZID=America/New_York:20291202T120000
DTEND;TZID=America/New_York:20291202T160000
DTSTAMP:20260421T212655
CREATED:20250304T010014Z
LAST-MODIFIED:20250902T150143Z
UID:30001233-1890907200-1890921600@www.kpacho.com
SUMMARY:Spanglish Sundays A Brunch Fiesta at K. Pacho
DESCRIPTION:
URL:https://www.kpacho.com/event/spanglish-sundays-a-brunch-fiesta-at-k-pacho/2029-12-02/
LOCATION:K. Pacho\, 1270 Union Turnpike\, New Hyde Park\, NY\, 11040\, United States
CATEGORIES:Weekly
ATTACH;FMTTYPE=image/jpeg:https://www.kpacho.com/wp-content/uploads/2025/03/1159d8f7-fd78-44d5-95e2-8dc9a1679b7a.jpg
GEO:40.7529;-73.6993
X-APPLE-STRUCTURED-LOCATION;VALUE=URI;X-ADDRESS=K. Pacho 1270 Union Turnpike New Hyde Park NY 11040 United States;X-APPLE-RADIUS=500;X-TITLE=1270 Union Turnpike:geo:-73.6993,40.7529
END:VEVENT
BEGIN:VEVENT
DTSTART;TZID=America/New_York:20291207T150000
DTEND;TZID=America/New_York:20291207T180000
DTSTAMP:20260421T212655
CREATED:20250827T230335Z
LAST-MODIFIED:20250916T234546Z
UID:30004314-1891350000-1891360800@www.kpacho.com
SUMMARY:K.Vida Loca at K. Pacho Every Friday
DESCRIPTION:
URL:https://www.kpacho.com/event/k-vida-loca-at-k-pacho-every-friday/2029-12-07/
LOCATION:K. Pacho\, 1270 Union Turnpike\, New Hyde Park\, NY\, 11040\, United States
CATEGORIES:Weekly
ATTACH;FMTTYPE=image/jpeg:https://www.kpacho.com/wp-content/uploads/2025/08/WhatsApp-Image-2025-08-27-at-14.47.58.jpeg
GEO:40.7529;-73.6993
X-APPLE-STRUCTURED-LOCATION;VALUE=URI;X-ADDRESS=K. Pacho 1270 Union Turnpike New Hyde Park NY 11040 United States;X-APPLE-RADIUS=500;X-TITLE=1270 Union Turnpike:geo:-73.6993,40.7529
END:VEVENT
BEGIN:VEVENT
DTSTART;TZID=America/New_York:20291209T120000
DTEND;TZID=America/New_York:20291209T160000
DTSTAMP:20260421T212655
CREATED:20250304T010014Z
LAST-MODIFIED:20250902T150143Z
UID:30001234-1891512000-1891526400@www.kpacho.com
SUMMARY:Spanglish Sundays A Brunch Fiesta at K. Pacho
DESCRIPTION:
URL:https://www.kpacho.com/event/spanglish-sundays-a-brunch-fiesta-at-k-pacho/2029-12-09/
LOCATION:K. Pacho\, 1270 Union Turnpike\, New Hyde Park\, NY\, 11040\, United States
CATEGORIES:Weekly
ATTACH;FMTTYPE=image/jpeg:https://www.kpacho.com/wp-content/uploads/2025/03/1159d8f7-fd78-44d5-95e2-8dc9a1679b7a.jpg
GEO:40.7529;-73.6993
X-APPLE-STRUCTURED-LOCATION;VALUE=URI;X-ADDRESS=K. Pacho 1270 Union Turnpike New Hyde Park NY 11040 United States;X-APPLE-RADIUS=500;X-TITLE=1270 Union Turnpike:geo:-73.6993,40.7529
END:VEVENT
BEGIN:VEVENT
DTSTART;TZID=America/New_York:20291214T150000
DTEND;TZID=America/New_York:20291214T180000
DTSTAMP:20260421T212655
CREATED:20250827T230335Z
LAST-MODIFIED:20250916T234546Z
UID:30004315-1891954800-1891965600@www.kpacho.com
SUMMARY:K.Vida Loca at K. Pacho Every Friday
DESCRIPTION:
URL:https://www.kpacho.com/event/k-vida-loca-at-k-pacho-every-friday/2029-12-14/
LOCATION:K. Pacho\, 1270 Union Turnpike\, New Hyde Park\, NY\, 11040\, United States
CATEGORIES:Weekly
ATTACH;FMTTYPE=image/jpeg:https://www.kpacho.com/wp-content/uploads/2025/08/WhatsApp-Image-2025-08-27-at-14.47.58.jpeg
GEO:40.7529;-73.6993
X-APPLE-STRUCTURED-LOCATION;VALUE=URI;X-ADDRESS=K. Pacho 1270 Union Turnpike New Hyde Park NY 11040 United States;X-APPLE-RADIUS=500;X-TITLE=1270 Union Turnpike:geo:-73.6993,40.7529
END:VEVENT
BEGIN:VEVENT
DTSTART;TZID=America/New_York:20291216T120000
DTEND;TZID=America/New_York:20291216T160000
DTSTAMP:20260421T212655
CREATED:20250304T010014Z
LAST-MODIFIED:20250902T150143Z
UID:30001235-1892116800-1892131200@www.kpacho.com
SUMMARY:Spanglish Sundays A Brunch Fiesta at K. Pacho
DESCRIPTION:
URL:https://www.kpacho.com/event/spanglish-sundays-a-brunch-fiesta-at-k-pacho/2029-12-16/
LOCATION:K. Pacho\, 1270 Union Turnpike\, New Hyde Park\, NY\, 11040\, United States
CATEGORIES:Weekly
ATTACH;FMTTYPE=image/jpeg:https://www.kpacho.com/wp-content/uploads/2025/03/1159d8f7-fd78-44d5-95e2-8dc9a1679b7a.jpg
GEO:40.7529;-73.6993
X-APPLE-STRUCTURED-LOCATION;VALUE=URI;X-ADDRESS=K. Pacho 1270 Union Turnpike New Hyde Park NY 11040 United States;X-APPLE-RADIUS=500;X-TITLE=1270 Union Turnpike:geo:-73.6993,40.7529
END:VEVENT
BEGIN:VEVENT
DTSTART;TZID=America/New_York:20291221T150000
DTEND;TZID=America/New_York:20291221T180000
DTSTAMP:20260421T212655
CREATED:20250827T230335Z
LAST-MODIFIED:20250916T234546Z
UID:30004316-1892559600-1892570400@www.kpacho.com
SUMMARY:K.Vida Loca at K. Pacho Every Friday
DESCRIPTION:
URL:https://www.kpacho.com/event/k-vida-loca-at-k-pacho-every-friday/2029-12-21/
LOCATION:K. Pacho\, 1270 Union Turnpike\, New Hyde Park\, NY\, 11040\, United States
CATEGORIES:Weekly
ATTACH;FMTTYPE=image/jpeg:https://www.kpacho.com/wp-content/uploads/2025/08/WhatsApp-Image-2025-08-27-at-14.47.58.jpeg
GEO:40.7529;-73.6993
X-APPLE-STRUCTURED-LOCATION;VALUE=URI;X-ADDRESS=K. Pacho 1270 Union Turnpike New Hyde Park NY 11040 United States;X-APPLE-RADIUS=500;X-TITLE=1270 Union Turnpike:geo:-73.6993,40.7529
END:VEVENT
BEGIN:VEVENT
DTSTART;TZID=America/New_York:20291223T120000
DTEND;TZID=America/New_York:20291223T160000
DTSTAMP:20260421T212655
CREATED:20250304T010014Z
LAST-MODIFIED:20250902T150143Z
UID:30001236-1892721600-1892736000@www.kpacho.com
SUMMARY:Spanglish Sundays A Brunch Fiesta at K. Pacho
DESCRIPTION:
URL:https://www.kpacho.com/event/spanglish-sundays-a-brunch-fiesta-at-k-pacho/2029-12-23/
LOCATION:K. Pacho\, 1270 Union Turnpike\, New Hyde Park\, NY\, 11040\, United States
CATEGORIES:Weekly
ATTACH;FMTTYPE=image/jpeg:https://www.kpacho.com/wp-content/uploads/2025/03/1159d8f7-fd78-44d5-95e2-8dc9a1679b7a.jpg
GEO:40.7529;-73.6993
X-APPLE-STRUCTURED-LOCATION;VALUE=URI;X-ADDRESS=K. Pacho 1270 Union Turnpike New Hyde Park NY 11040 United States;X-APPLE-RADIUS=500;X-TITLE=1270 Union Turnpike:geo:-73.6993,40.7529
END:VEVENT
BEGIN:VEVENT
DTSTART;TZID=America/New_York:20291228T150000
DTEND;TZID=America/New_York:20291228T180000
DTSTAMP:20260421T212655
CREATED:20250827T230335Z
LAST-MODIFIED:20250916T234546Z
UID:30004317-1893164400-1893175200@www.kpacho.com
SUMMARY:K.Vida Loca at K. Pacho Every Friday
DESCRIPTION:
URL:https://www.kpacho.com/event/k-vida-loca-at-k-pacho-every-friday/2029-12-28/
LOCATION:K. Pacho\, 1270 Union Turnpike\, New Hyde Park\, NY\, 11040\, United States
CATEGORIES:Weekly
ATTACH;FMTTYPE=image/jpeg:https://www.kpacho.com/wp-content/uploads/2025/08/WhatsApp-Image-2025-08-27-at-14.47.58.jpeg
GEO:40.7529;-73.6993
X-APPLE-STRUCTURED-LOCATION;VALUE=URI;X-ADDRESS=K. Pacho 1270 Union Turnpike New Hyde Park NY 11040 United States;X-APPLE-RADIUS=500;X-TITLE=1270 Union Turnpike:geo:-73.6993,40.7529
END:VEVENT
BEGIN:VEVENT
DTSTART;TZID=America/New_York:20291230T120000
DTEND;TZID=America/New_York:20291230T160000
DTSTAMP:20260421T212655
CREATED:20250304T010014Z
LAST-MODIFIED:20250902T150143Z
UID:30001237-1893326400-1893340800@www.kpacho.com
SUMMARY:Spanglish Sundays A Brunch Fiesta at K. Pacho
DESCRIPTION:
URL:https://www.kpacho.com/event/spanglish-sundays-a-brunch-fiesta-at-k-pacho/2029-12-30/
LOCATION:K. Pacho\, 1270 Union Turnpike\, New Hyde Park\, NY\, 11040\, United States
CATEGORIES:Weekly
ATTACH;FMTTYPE=image/jpeg:https://www.kpacho.com/wp-content/uploads/2025/03/1159d8f7-fd78-44d5-95e2-8dc9a1679b7a.jpg
GEO:40.7529;-73.6993
X-APPLE-STRUCTURED-LOCATION;VALUE=URI;X-ADDRESS=K. Pacho 1270 Union Turnpike New Hyde Park NY 11040 United States;X-APPLE-RADIUS=500;X-TITLE=1270 Union Turnpike:geo:-73.6993,40.7529
END:VEVENT
BEGIN:VEVENT
DTSTART;TZID=America/New_York:20300104T150000
DTEND;TZID=America/New_York:20300104T180000
DTSTAMP:20260421T212655
CREATED:20250827T230335Z
LAST-MODIFIED:20250916T234546Z
UID:30004318-1893769200-1893780000@www.kpacho.com
SUMMARY:K.Vida Loca at K. Pacho Every Friday
DESCRIPTION:
URL:https://www.kpacho.com/event/k-vida-loca-at-k-pacho-every-friday/2030-01-04/
LOCATION:K. Pacho\, 1270 Union Turnpike\, New Hyde Park\, NY\, 11040\, United States
CATEGORIES:Weekly
ATTACH;FMTTYPE=image/jpeg:https://www.kpacho.com/wp-content/uploads/2025/08/WhatsApp-Image-2025-08-27-at-14.47.58.jpeg
GEO:40.7529;-73.6993
X-APPLE-STRUCTURED-LOCATION;VALUE=URI;X-ADDRESS=K. Pacho 1270 Union Turnpike New Hyde Park NY 11040 United States;X-APPLE-RADIUS=500;X-TITLE=1270 Union Turnpike:geo:-73.6993,40.7529
END:VEVENT
BEGIN:VEVENT
DTSTART;TZID=America/New_York:20300106T120000
DTEND;TZID=America/New_York:20300106T160000
DTSTAMP:20260421T212655
CREATED:20250304T010014Z
LAST-MODIFIED:20250902T150143Z
UID:30001238-1893931200-1893945600@www.kpacho.com
SUMMARY:Spanglish Sundays A Brunch Fiesta at K. Pacho
DESCRIPTION:
URL:https://www.kpacho.com/event/spanglish-sundays-a-brunch-fiesta-at-k-pacho/2030-01-06/
LOCATION:K. Pacho\, 1270 Union Turnpike\, New Hyde Park\, NY\, 11040\, United States
CATEGORIES:Weekly
ATTACH;FMTTYPE=image/jpeg:https://www.kpacho.com/wp-content/uploads/2025/03/1159d8f7-fd78-44d5-95e2-8dc9a1679b7a.jpg
GEO:40.7529;-73.6993
X-APPLE-STRUCTURED-LOCATION;VALUE=URI;X-ADDRESS=K. Pacho 1270 Union Turnpike New Hyde Park NY 11040 United States;X-APPLE-RADIUS=500;X-TITLE=1270 Union Turnpike:geo:-73.6993,40.7529
END:VEVENT
BEGIN:VEVENT
DTSTART;TZID=America/New_York:20300111T150000
DTEND;TZID=America/New_York:20300111T180000
DTSTAMP:20260421T212655
CREATED:20250827T230335Z
LAST-MODIFIED:20250916T234546Z
UID:30004319-1894374000-1894384800@www.kpacho.com
SUMMARY:K.Vida Loca at K. Pacho Every Friday
DESCRIPTION:
URL:https://www.kpacho.com/event/k-vida-loca-at-k-pacho-every-friday/2030-01-11/
LOCATION:K. Pacho\, 1270 Union Turnpike\, New Hyde Park\, NY\, 11040\, United States
CATEGORIES:Weekly
ATTACH;FMTTYPE=image/jpeg:https://www.kpacho.com/wp-content/uploads/2025/08/WhatsApp-Image-2025-08-27-at-14.47.58.jpeg
GEO:40.7529;-73.6993
X-APPLE-STRUCTURED-LOCATION;VALUE=URI;X-ADDRESS=K. Pacho 1270 Union Turnpike New Hyde Park NY 11040 United States;X-APPLE-RADIUS=500;X-TITLE=1270 Union Turnpike:geo:-73.6993,40.7529
END:VEVENT
BEGIN:VEVENT
DTSTART;TZID=America/New_York:20300113T120000
DTEND;TZID=America/New_York:20300113T160000
DTSTAMP:20260421T212655
CREATED:20250304T010014Z
LAST-MODIFIED:20250902T150143Z
UID:30001239-1894536000-1894550400@www.kpacho.com
SUMMARY:Spanglish Sundays A Brunch Fiesta at K. Pacho
DESCRIPTION:
URL:https://www.kpacho.com/event/spanglish-sundays-a-brunch-fiesta-at-k-pacho/2030-01-13/
LOCATION:K. Pacho\, 1270 Union Turnpike\, New Hyde Park\, NY\, 11040\, United States
CATEGORIES:Weekly
ATTACH;FMTTYPE=image/jpeg:https://www.kpacho.com/wp-content/uploads/2025/03/1159d8f7-fd78-44d5-95e2-8dc9a1679b7a.jpg
GEO:40.7529;-73.6993
X-APPLE-STRUCTURED-LOCATION;VALUE=URI;X-ADDRESS=K. Pacho 1270 Union Turnpike New Hyde Park NY 11040 United States;X-APPLE-RADIUS=500;X-TITLE=1270 Union Turnpike:geo:-73.6993,40.7529
END:VEVENT
BEGIN:VEVENT
DTSTART;TZID=America/New_York:20300118T150000
DTEND;TZID=America/New_York:20300118T180000
DTSTAMP:20260421T212655
CREATED:20250827T230335Z
LAST-MODIFIED:20250916T234546Z
UID:30004320-1894978800-1894989600@www.kpacho.com
SUMMARY:K.Vida Loca at K. Pacho Every Friday
DESCRIPTION:
URL:https://www.kpacho.com/event/k-vida-loca-at-k-pacho-every-friday/2030-01-18/
LOCATION:K. Pacho\, 1270 Union Turnpike\, New Hyde Park\, NY\, 11040\, United States
CATEGORIES:Weekly
ATTACH;FMTTYPE=image/jpeg:https://www.kpacho.com/wp-content/uploads/2025/08/WhatsApp-Image-2025-08-27-at-14.47.58.jpeg
GEO:40.7529;-73.6993
X-APPLE-STRUCTURED-LOCATION;VALUE=URI;X-ADDRESS=K. Pacho 1270 Union Turnpike New Hyde Park NY 11040 United States;X-APPLE-RADIUS=500;X-TITLE=1270 Union Turnpike:geo:-73.6993,40.7529
END:VEVENT
BEGIN:VEVENT
DTSTART;TZID=America/New_York:20300120T120000
DTEND;TZID=America/New_York:20300120T160000
DTSTAMP:20260421T212655
CREATED:20250304T010014Z
LAST-MODIFIED:20250902T150143Z
UID:30001240-1895140800-1895155200@www.kpacho.com
SUMMARY:Spanglish Sundays A Brunch Fiesta at K. Pacho
DESCRIPTION:
URL:https://www.kpacho.com/event/spanglish-sundays-a-brunch-fiesta-at-k-pacho/2030-01-20/
LOCATION:K. Pacho\, 1270 Union Turnpike\, New Hyde Park\, NY\, 11040\, United States
CATEGORIES:Weekly
ATTACH;FMTTYPE=image/jpeg:https://www.kpacho.com/wp-content/uploads/2025/03/1159d8f7-fd78-44d5-95e2-8dc9a1679b7a.jpg
GEO:40.7529;-73.6993
X-APPLE-STRUCTURED-LOCATION;VALUE=URI;X-ADDRESS=K. Pacho 1270 Union Turnpike New Hyde Park NY 11040 United States;X-APPLE-RADIUS=500;X-TITLE=1270 Union Turnpike:geo:-73.6993,40.7529
END:VEVENT
BEGIN:VEVENT
DTSTART;TZID=America/New_York:20300125T150000
DTEND;TZID=America/New_York:20300125T180000
DTSTAMP:20260421T212655
CREATED:20250827T230335Z
LAST-MODIFIED:20250916T234546Z
UID:30004321-1895583600-1895594400@www.kpacho.com
SUMMARY:K.Vida Loca at K. Pacho Every Friday
DESCRIPTION:
URL:https://www.kpacho.com/event/k-vida-loca-at-k-pacho-every-friday/2030-01-25/
LOCATION:K. Pacho\, 1270 Union Turnpike\, New Hyde Park\, NY\, 11040\, United States
CATEGORIES:Weekly
ATTACH;FMTTYPE=image/jpeg:https://www.kpacho.com/wp-content/uploads/2025/08/WhatsApp-Image-2025-08-27-at-14.47.58.jpeg
GEO:40.7529;-73.6993
X-APPLE-STRUCTURED-LOCATION;VALUE=URI;X-ADDRESS=K. Pacho 1270 Union Turnpike New Hyde Park NY 11040 United States;X-APPLE-RADIUS=500;X-TITLE=1270 Union Turnpike:geo:-73.6993,40.7529
END:VEVENT
BEGIN:VEVENT
DTSTART;TZID=America/New_York:20300127T120000
DTEND;TZID=America/New_York:20300127T160000
DTSTAMP:20260421T212655
CREATED:20250304T010014Z
LAST-MODIFIED:20250902T150143Z
UID:30001241-1895745600-1895760000@www.kpacho.com
SUMMARY:Spanglish Sundays A Brunch Fiesta at K. Pacho
DESCRIPTION:
URL:https://www.kpacho.com/event/spanglish-sundays-a-brunch-fiesta-at-k-pacho/2030-01-27/
LOCATION:K. Pacho\, 1270 Union Turnpike\, New Hyde Park\, NY\, 11040\, United States
CATEGORIES:Weekly
ATTACH;FMTTYPE=image/jpeg:https://www.kpacho.com/wp-content/uploads/2025/03/1159d8f7-fd78-44d5-95e2-8dc9a1679b7a.jpg
GEO:40.7529;-73.6993
X-APPLE-STRUCTURED-LOCATION;VALUE=URI;X-ADDRESS=K. Pacho 1270 Union Turnpike New Hyde Park NY 11040 United States;X-APPLE-RADIUS=500;X-TITLE=1270 Union Turnpike:geo:-73.6993,40.7529
END:VEVENT
BEGIN:VEVENT
DTSTART;TZID=America/New_York:20300201T150000
DTEND;TZID=America/New_York:20300201T180000
DTSTAMP:20260421T212655
CREATED:20250827T230335Z
LAST-MODIFIED:20250916T234546Z
UID:30004322-1896188400-1896199200@www.kpacho.com
SUMMARY:K.Vida Loca at K. Pacho Every Friday
DESCRIPTION:
URL:https://www.kpacho.com/event/k-vida-loca-at-k-pacho-every-friday/2030-02-01/
LOCATION:K. Pacho\, 1270 Union Turnpike\, New Hyde Park\, NY\, 11040\, United States
CATEGORIES:Weekly
ATTACH;FMTTYPE=image/jpeg:https://www.kpacho.com/wp-content/uploads/2025/08/WhatsApp-Image-2025-08-27-at-14.47.58.jpeg
GEO:40.7529;-73.6993
X-APPLE-STRUCTURED-LOCATION;VALUE=URI;X-ADDRESS=K. Pacho 1270 Union Turnpike New Hyde Park NY 11040 United States;X-APPLE-RADIUS=500;X-TITLE=1270 Union Turnpike:geo:-73.6993,40.7529
END:VEVENT
BEGIN:VEVENT
DTSTART;TZID=America/New_York:20300203T120000
DTEND;TZID=America/New_York:20300203T160000
DTSTAMP:20260421T212655
CREATED:20250304T010014Z
LAST-MODIFIED:20250902T150143Z
UID:30001242-1896350400-1896364800@www.kpacho.com
SUMMARY:Spanglish Sundays A Brunch Fiesta at K. Pacho
DESCRIPTION:
URL:https://www.kpacho.com/event/spanglish-sundays-a-brunch-fiesta-at-k-pacho/2030-02-03/
LOCATION:K. Pacho\, 1270 Union Turnpike\, New Hyde Park\, NY\, 11040\, United States
CATEGORIES:Weekly
ATTACH;FMTTYPE=image/jpeg:https://www.kpacho.com/wp-content/uploads/2025/03/1159d8f7-fd78-44d5-95e2-8dc9a1679b7a.jpg
GEO:40.7529;-73.6993
X-APPLE-STRUCTURED-LOCATION;VALUE=URI;X-ADDRESS=K. Pacho 1270 Union Turnpike New Hyde Park NY 11040 United States;X-APPLE-RADIUS=500;X-TITLE=1270 Union Turnpike:geo:-73.6993,40.7529
END:VEVENT
BEGIN:VEVENT
DTSTART;TZID=America/New_York:20300208T150000
DTEND;TZID=America/New_York:20300208T180000
DTSTAMP:20260421T212656
CREATED:20250827T230335Z
LAST-MODIFIED:20250916T234546Z
UID:30004323-1896793200-1896804000@www.kpacho.com
SUMMARY:K.Vida Loca at K. Pacho Every Friday
DESCRIPTION:
URL:https://www.kpacho.com/event/k-vida-loca-at-k-pacho-every-friday/2030-02-08/
LOCATION:K. Pacho\, 1270 Union Turnpike\, New Hyde Park\, NY\, 11040\, United States
CATEGORIES:Weekly
ATTACH;FMTTYPE=image/jpeg:https://www.kpacho.com/wp-content/uploads/2025/08/WhatsApp-Image-2025-08-27-at-14.47.58.jpeg
GEO:40.7529;-73.6993
X-APPLE-STRUCTURED-LOCATION;VALUE=URI;X-ADDRESS=K. Pacho 1270 Union Turnpike New Hyde Park NY 11040 United States;X-APPLE-RADIUS=500;X-TITLE=1270 Union Turnpike:geo:-73.6993,40.7529
END:VEVENT
BEGIN:VEVENT
DTSTART;TZID=America/New_York:20300210T120000
DTEND;TZID=America/New_York:20300210T160000
DTSTAMP:20260421T212656
CREATED:20250304T010014Z
LAST-MODIFIED:20250902T150143Z
UID:30001243-1896955200-1896969600@www.kpacho.com
SUMMARY:Spanglish Sundays A Brunch Fiesta at K. Pacho
DESCRIPTION:
URL:https://www.kpacho.com/event/spanglish-sundays-a-brunch-fiesta-at-k-pacho/2030-02-10/
LOCATION:K. Pacho\, 1270 Union Turnpike\, New Hyde Park\, NY\, 11040\, United States
CATEGORIES:Weekly
ATTACH;FMTTYPE=image/jpeg:https://www.kpacho.com/wp-content/uploads/2025/03/1159d8f7-fd78-44d5-95e2-8dc9a1679b7a.jpg
GEO:40.7529;-73.6993
X-APPLE-STRUCTURED-LOCATION;VALUE=URI;X-ADDRESS=K. Pacho 1270 Union Turnpike New Hyde Park NY 11040 United States;X-APPLE-RADIUS=500;X-TITLE=1270 Union Turnpike:geo:-73.6993,40.7529
END:VEVENT
BEGIN:VEVENT
DTSTART;TZID=America/New_York:20300215T150000
DTEND;TZID=America/New_York:20300215T180000
DTSTAMP:20260421T212656
CREATED:20250827T230335Z
LAST-MODIFIED:20250916T234546Z
UID:30004324-1897398000-1897408800@www.kpacho.com
SUMMARY:K.Vida Loca at K. Pacho Every Friday
DESCRIPTION:
URL:https://www.kpacho.com/event/k-vida-loca-at-k-pacho-every-friday/2030-02-15/
LOCATION:K. Pacho\, 1270 Union Turnpike\, New Hyde Park\, NY\, 11040\, United States
CATEGORIES:Weekly
ATTACH;FMTTYPE=image/jpeg:https://www.kpacho.com/wp-content/uploads/2025/08/WhatsApp-Image-2025-08-27-at-14.47.58.jpeg
GEO:40.7529;-73.6993
X-APPLE-STRUCTURED-LOCATION;VALUE=URI;X-ADDRESS=K. Pacho 1270 Union Turnpike New Hyde Park NY 11040 United States;X-APPLE-RADIUS=500;X-TITLE=1270 Union Turnpike:geo:-73.6993,40.7529
END:VEVENT
BEGIN:VEVENT
DTSTART;TZID=America/New_York:20300217T120000
DTEND;TZID=America/New_York:20300217T160000
DTSTAMP:20260421T212656
CREATED:20250304T010014Z
LAST-MODIFIED:20250902T150143Z
UID:30001244-1897560000-1897574400@www.kpacho.com
SUMMARY:Spanglish Sundays A Brunch Fiesta at K. Pacho
DESCRIPTION:
URL:https://www.kpacho.com/event/spanglish-sundays-a-brunch-fiesta-at-k-pacho/2030-02-17/
LOCATION:K. Pacho\, 1270 Union Turnpike\, New Hyde Park\, NY\, 11040\, United States
CATEGORIES:Weekly
ATTACH;FMTTYPE=image/jpeg:https://www.kpacho.com/wp-content/uploads/2025/03/1159d8f7-fd78-44d5-95e2-8dc9a1679b7a.jpg
GEO:40.7529;-73.6993
X-APPLE-STRUCTURED-LOCATION;VALUE=URI;X-ADDRESS=K. Pacho 1270 Union Turnpike New Hyde Park NY 11040 United States;X-APPLE-RADIUS=500;X-TITLE=1270 Union Turnpike:geo:-73.6993,40.7529
END:VEVENT
END:VCALENDAR