BEGIN:VCALENDAR
VERSION:2.0
PRODID:-//K. Pacho | Mexican Restaurant &amp; Catering Venue in New Hyde Park, Long Island - ECPv6.15.20//NONSGML v1.0//EN
CALSCALE:GREGORIAN
METHOD:PUBLISH
X-ORIGINAL-URL:https://www.kpacho.com
X-WR-CALDESC:Events for K. Pacho | Mexican Restaurant &amp; Catering Venue in New Hyde Park, Long Island
REFRESH-INTERVAL;VALUE=DURATION:PT1H
X-Robots-Tag:noindex
X-PUBLISHED-TTL:PT1H
BEGIN:VTIMEZONE
TZID:America/New_York
BEGIN:DAYLIGHT
TZOFFSETFROM:-0500
TZOFFSETTO:-0400
TZNAME:EDT
DTSTART:20260308T070000
END:DAYLIGHT
BEGIN:STANDARD
TZOFFSETFROM:-0400
TZOFFSETTO:-0500
TZNAME:EST
DTSTART:20261101T060000
END:STANDARD
BEGIN:DAYLIGHT
TZOFFSETFROM:-0500
TZOFFSETTO:-0400
TZNAME:EDT
DTSTART:20270314T070000
END:DAYLIGHT
BEGIN:STANDARD
TZOFFSETFROM:-0400
TZOFFSETTO:-0500
TZNAME:EST
DTSTART:20271107T060000
END:STANDARD
BEGIN:DAYLIGHT
TZOFFSETFROM:-0500
TZOFFSETTO:-0400
TZNAME:EDT
DTSTART:20280312T070000
END:DAYLIGHT
BEGIN:STANDARD
TZOFFSETFROM:-0400
TZOFFSETTO:-0500
TZNAME:EST
DTSTART:20281105T060000
END:STANDARD
END:VTIMEZONE
BEGIN:VEVENT
DTSTART;TZID=America/New_York:20270507T150000
DTEND;TZID=America/New_York:20270507T180000
DTSTAMP:20260420T040629
CREATED:20250827T230335Z
LAST-MODIFIED:20250916T234546Z
UID:30004179-1809702000-1809712800@www.kpacho.com
SUMMARY:K.Vida Loca at K. Pacho Every Friday
DESCRIPTION:
URL:https://www.kpacho.com/event/k-vida-loca-at-k-pacho-every-friday/2027-05-07/
LOCATION:K. Pacho\, 1270 Union Turnpike\, New Hyde Park\, NY\, 11040\, United States
CATEGORIES:Weekly
ATTACH;FMTTYPE=image/jpeg:https://www.kpacho.com/wp-content/uploads/2025/08/WhatsApp-Image-2025-08-27-at-14.47.58.jpeg
GEO:40.7529;-73.6993
X-APPLE-STRUCTURED-LOCATION;VALUE=URI;X-ADDRESS=K. Pacho 1270 Union Turnpike New Hyde Park NY 11040 United States;X-APPLE-RADIUS=500;X-TITLE=1270 Union Turnpike:geo:-73.6993,40.7529
END:VEVENT
BEGIN:VEVENT
DTSTART;TZID=America/New_York:20270509T120000
DTEND;TZID=America/New_York:20270509T160000
DTSTAMP:20260420T040629
CREATED:20250304T010014Z
LAST-MODIFIED:20250902T150143Z
UID:30001099-1809864000-1809878400@www.kpacho.com
SUMMARY:Spanglish Sundays A Brunch Fiesta at K. Pacho
DESCRIPTION:
URL:https://www.kpacho.com/event/spanglish-sundays-a-brunch-fiesta-at-k-pacho/2027-05-09/
LOCATION:K. Pacho\, 1270 Union Turnpike\, New Hyde Park\, NY\, 11040\, United States
CATEGORIES:Weekly
ATTACH;FMTTYPE=image/jpeg:https://www.kpacho.com/wp-content/uploads/2025/03/1159d8f7-fd78-44d5-95e2-8dc9a1679b7a.jpg
GEO:40.7529;-73.6993
X-APPLE-STRUCTURED-LOCATION;VALUE=URI;X-ADDRESS=K. Pacho 1270 Union Turnpike New Hyde Park NY 11040 United States;X-APPLE-RADIUS=500;X-TITLE=1270 Union Turnpike:geo:-73.6993,40.7529
END:VEVENT
BEGIN:VEVENT
DTSTART;TZID=America/New_York:20270514T150000
DTEND;TZID=America/New_York:20270514T180000
DTSTAMP:20260420T040629
CREATED:20250827T230335Z
LAST-MODIFIED:20250916T234546Z
UID:30004180-1810306800-1810317600@www.kpacho.com
SUMMARY:K.Vida Loca at K. Pacho Every Friday
DESCRIPTION:
URL:https://www.kpacho.com/event/k-vida-loca-at-k-pacho-every-friday/2027-05-14/
LOCATION:K. Pacho\, 1270 Union Turnpike\, New Hyde Park\, NY\, 11040\, United States
CATEGORIES:Weekly
ATTACH;FMTTYPE=image/jpeg:https://www.kpacho.com/wp-content/uploads/2025/08/WhatsApp-Image-2025-08-27-at-14.47.58.jpeg
GEO:40.7529;-73.6993
X-APPLE-STRUCTURED-LOCATION;VALUE=URI;X-ADDRESS=K. Pacho 1270 Union Turnpike New Hyde Park NY 11040 United States;X-APPLE-RADIUS=500;X-TITLE=1270 Union Turnpike:geo:-73.6993,40.7529
END:VEVENT
BEGIN:VEVENT
DTSTART;TZID=America/New_York:20270516T120000
DTEND;TZID=America/New_York:20270516T160000
DTSTAMP:20260420T040629
CREATED:20250304T010014Z
LAST-MODIFIED:20250902T150143Z
UID:30001100-1810468800-1810483200@www.kpacho.com
SUMMARY:Spanglish Sundays A Brunch Fiesta at K. Pacho
DESCRIPTION:
URL:https://www.kpacho.com/event/spanglish-sundays-a-brunch-fiesta-at-k-pacho/2027-05-16/
LOCATION:K. Pacho\, 1270 Union Turnpike\, New Hyde Park\, NY\, 11040\, United States
CATEGORIES:Weekly
ATTACH;FMTTYPE=image/jpeg:https://www.kpacho.com/wp-content/uploads/2025/03/1159d8f7-fd78-44d5-95e2-8dc9a1679b7a.jpg
GEO:40.7529;-73.6993
X-APPLE-STRUCTURED-LOCATION;VALUE=URI;X-ADDRESS=K. Pacho 1270 Union Turnpike New Hyde Park NY 11040 United States;X-APPLE-RADIUS=500;X-TITLE=1270 Union Turnpike:geo:-73.6993,40.7529
END:VEVENT
BEGIN:VEVENT
DTSTART;TZID=America/New_York:20270521T150000
DTEND;TZID=America/New_York:20270521T180000
DTSTAMP:20260420T040629
CREATED:20250827T230335Z
LAST-MODIFIED:20250916T234546Z
UID:30004181-1810911600-1810922400@www.kpacho.com
SUMMARY:K.Vida Loca at K. Pacho Every Friday
DESCRIPTION:
URL:https://www.kpacho.com/event/k-vida-loca-at-k-pacho-every-friday/2027-05-21/
LOCATION:K. Pacho\, 1270 Union Turnpike\, New Hyde Park\, NY\, 11040\, United States
CATEGORIES:Weekly
ATTACH;FMTTYPE=image/jpeg:https://www.kpacho.com/wp-content/uploads/2025/08/WhatsApp-Image-2025-08-27-at-14.47.58.jpeg
GEO:40.7529;-73.6993
X-APPLE-STRUCTURED-LOCATION;VALUE=URI;X-ADDRESS=K. Pacho 1270 Union Turnpike New Hyde Park NY 11040 United States;X-APPLE-RADIUS=500;X-TITLE=1270 Union Turnpike:geo:-73.6993,40.7529
END:VEVENT
BEGIN:VEVENT
DTSTART;TZID=America/New_York:20270523T120000
DTEND;TZID=America/New_York:20270523T160000
DTSTAMP:20260420T040629
CREATED:20250304T010014Z
LAST-MODIFIED:20250902T150143Z
UID:30001101-1811073600-1811088000@www.kpacho.com
SUMMARY:Spanglish Sundays A Brunch Fiesta at K. Pacho
DESCRIPTION:
URL:https://www.kpacho.com/event/spanglish-sundays-a-brunch-fiesta-at-k-pacho/2027-05-23/
LOCATION:K. Pacho\, 1270 Union Turnpike\, New Hyde Park\, NY\, 11040\, United States
CATEGORIES:Weekly
ATTACH;FMTTYPE=image/jpeg:https://www.kpacho.com/wp-content/uploads/2025/03/1159d8f7-fd78-44d5-95e2-8dc9a1679b7a.jpg
GEO:40.7529;-73.6993
X-APPLE-STRUCTURED-LOCATION;VALUE=URI;X-ADDRESS=K. Pacho 1270 Union Turnpike New Hyde Park NY 11040 United States;X-APPLE-RADIUS=500;X-TITLE=1270 Union Turnpike:geo:-73.6993,40.7529
END:VEVENT
BEGIN:VEVENT
DTSTART;TZID=America/New_York:20270528T150000
DTEND;TZID=America/New_York:20270528T180000
DTSTAMP:20260420T040629
CREATED:20250827T230335Z
LAST-MODIFIED:20250916T234546Z
UID:30004182-1811516400-1811527200@www.kpacho.com
SUMMARY:K.Vida Loca at K. Pacho Every Friday
DESCRIPTION:
URL:https://www.kpacho.com/event/k-vida-loca-at-k-pacho-every-friday/2027-05-28/
LOCATION:K. Pacho\, 1270 Union Turnpike\, New Hyde Park\, NY\, 11040\, United States
CATEGORIES:Weekly
ATTACH;FMTTYPE=image/jpeg:https://www.kpacho.com/wp-content/uploads/2025/08/WhatsApp-Image-2025-08-27-at-14.47.58.jpeg
GEO:40.7529;-73.6993
X-APPLE-STRUCTURED-LOCATION;VALUE=URI;X-ADDRESS=K. Pacho 1270 Union Turnpike New Hyde Park NY 11040 United States;X-APPLE-RADIUS=500;X-TITLE=1270 Union Turnpike:geo:-73.6993,40.7529
END:VEVENT
BEGIN:VEVENT
DTSTART;TZID=America/New_York:20270530T120000
DTEND;TZID=America/New_York:20270530T160000
DTSTAMP:20260420T040629
CREATED:20250304T010014Z
LAST-MODIFIED:20250902T150143Z
UID:30001102-1811678400-1811692800@www.kpacho.com
SUMMARY:Spanglish Sundays A Brunch Fiesta at K. Pacho
DESCRIPTION:
URL:https://www.kpacho.com/event/spanglish-sundays-a-brunch-fiesta-at-k-pacho/2027-05-30/
LOCATION:K. Pacho\, 1270 Union Turnpike\, New Hyde Park\, NY\, 11040\, United States
CATEGORIES:Weekly
ATTACH;FMTTYPE=image/jpeg:https://www.kpacho.com/wp-content/uploads/2025/03/1159d8f7-fd78-44d5-95e2-8dc9a1679b7a.jpg
GEO:40.7529;-73.6993
X-APPLE-STRUCTURED-LOCATION;VALUE=URI;X-ADDRESS=K. Pacho 1270 Union Turnpike New Hyde Park NY 11040 United States;X-APPLE-RADIUS=500;X-TITLE=1270 Union Turnpike:geo:-73.6993,40.7529
END:VEVENT
BEGIN:VEVENT
DTSTART;TZID=America/New_York:20270604T150000
DTEND;TZID=America/New_York:20270604T180000
DTSTAMP:20260420T040629
CREATED:20250827T230335Z
LAST-MODIFIED:20250916T234546Z
UID:30004183-1812121200-1812132000@www.kpacho.com
SUMMARY:K.Vida Loca at K. Pacho Every Friday
DESCRIPTION:
URL:https://www.kpacho.com/event/k-vida-loca-at-k-pacho-every-friday/2027-06-04/
LOCATION:K. Pacho\, 1270 Union Turnpike\, New Hyde Park\, NY\, 11040\, United States
CATEGORIES:Weekly
ATTACH;FMTTYPE=image/jpeg:https://www.kpacho.com/wp-content/uploads/2025/08/WhatsApp-Image-2025-08-27-at-14.47.58.jpeg
GEO:40.7529;-73.6993
X-APPLE-STRUCTURED-LOCATION;VALUE=URI;X-ADDRESS=K. Pacho 1270 Union Turnpike New Hyde Park NY 11040 United States;X-APPLE-RADIUS=500;X-TITLE=1270 Union Turnpike:geo:-73.6993,40.7529
END:VEVENT
BEGIN:VEVENT
DTSTART;TZID=America/New_York:20270606T120000
DTEND;TZID=America/New_York:20270606T160000
DTSTAMP:20260420T040629
CREATED:20250304T010014Z
LAST-MODIFIED:20250902T150143Z
UID:30001103-1812283200-1812297600@www.kpacho.com
SUMMARY:Spanglish Sundays A Brunch Fiesta at K. Pacho
DESCRIPTION:
URL:https://www.kpacho.com/event/spanglish-sundays-a-brunch-fiesta-at-k-pacho/2027-06-06/
LOCATION:K. Pacho\, 1270 Union Turnpike\, New Hyde Park\, NY\, 11040\, United States
CATEGORIES:Weekly
ATTACH;FMTTYPE=image/jpeg:https://www.kpacho.com/wp-content/uploads/2025/03/1159d8f7-fd78-44d5-95e2-8dc9a1679b7a.jpg
GEO:40.7529;-73.6993
X-APPLE-STRUCTURED-LOCATION;VALUE=URI;X-ADDRESS=K. Pacho 1270 Union Turnpike New Hyde Park NY 11040 United States;X-APPLE-RADIUS=500;X-TITLE=1270 Union Turnpike:geo:-73.6993,40.7529
END:VEVENT
BEGIN:VEVENT
DTSTART;TZID=America/New_York:20270611T150000
DTEND;TZID=America/New_York:20270611T180000
DTSTAMP:20260420T040630
CREATED:20250827T230335Z
LAST-MODIFIED:20250916T234546Z
UID:30004184-1812726000-1812736800@www.kpacho.com
SUMMARY:K.Vida Loca at K. Pacho Every Friday
DESCRIPTION:
URL:https://www.kpacho.com/event/k-vida-loca-at-k-pacho-every-friday/2027-06-11/
LOCATION:K. Pacho\, 1270 Union Turnpike\, New Hyde Park\, NY\, 11040\, United States
CATEGORIES:Weekly
ATTACH;FMTTYPE=image/jpeg:https://www.kpacho.com/wp-content/uploads/2025/08/WhatsApp-Image-2025-08-27-at-14.47.58.jpeg
GEO:40.7529;-73.6993
X-APPLE-STRUCTURED-LOCATION;VALUE=URI;X-ADDRESS=K. Pacho 1270 Union Turnpike New Hyde Park NY 11040 United States;X-APPLE-RADIUS=500;X-TITLE=1270 Union Turnpike:geo:-73.6993,40.7529
END:VEVENT
BEGIN:VEVENT
DTSTART;TZID=America/New_York:20270613T120000
DTEND;TZID=America/New_York:20270613T160000
DTSTAMP:20260420T040630
CREATED:20250304T010014Z
LAST-MODIFIED:20250902T150143Z
UID:30001104-1812888000-1812902400@www.kpacho.com
SUMMARY:Spanglish Sundays A Brunch Fiesta at K. Pacho
DESCRIPTION:
URL:https://www.kpacho.com/event/spanglish-sundays-a-brunch-fiesta-at-k-pacho/2027-06-13/
LOCATION:K. Pacho\, 1270 Union Turnpike\, New Hyde Park\, NY\, 11040\, United States
CATEGORIES:Weekly
ATTACH;FMTTYPE=image/jpeg:https://www.kpacho.com/wp-content/uploads/2025/03/1159d8f7-fd78-44d5-95e2-8dc9a1679b7a.jpg
GEO:40.7529;-73.6993
X-APPLE-STRUCTURED-LOCATION;VALUE=URI;X-ADDRESS=K. Pacho 1270 Union Turnpike New Hyde Park NY 11040 United States;X-APPLE-RADIUS=500;X-TITLE=1270 Union Turnpike:geo:-73.6993,40.7529
END:VEVENT
BEGIN:VEVENT
DTSTART;TZID=America/New_York:20270618T150000
DTEND;TZID=America/New_York:20270618T180000
DTSTAMP:20260420T040630
CREATED:20250827T230335Z
LAST-MODIFIED:20250916T234546Z
UID:30004185-1813330800-1813341600@www.kpacho.com
SUMMARY:K.Vida Loca at K. Pacho Every Friday
DESCRIPTION:
URL:https://www.kpacho.com/event/k-vida-loca-at-k-pacho-every-friday/2027-06-18/
LOCATION:K. Pacho\, 1270 Union Turnpike\, New Hyde Park\, NY\, 11040\, United States
CATEGORIES:Weekly
ATTACH;FMTTYPE=image/jpeg:https://www.kpacho.com/wp-content/uploads/2025/08/WhatsApp-Image-2025-08-27-at-14.47.58.jpeg
GEO:40.7529;-73.6993
X-APPLE-STRUCTURED-LOCATION;VALUE=URI;X-ADDRESS=K. Pacho 1270 Union Turnpike New Hyde Park NY 11040 United States;X-APPLE-RADIUS=500;X-TITLE=1270 Union Turnpike:geo:-73.6993,40.7529
END:VEVENT
BEGIN:VEVENT
DTSTART;TZID=America/New_York:20270620T120000
DTEND;TZID=America/New_York:20270620T160000
DTSTAMP:20260420T040630
CREATED:20250304T010014Z
LAST-MODIFIED:20250902T150143Z
UID:30001105-1813492800-1813507200@www.kpacho.com
SUMMARY:Spanglish Sundays A Brunch Fiesta at K. Pacho
DESCRIPTION:
URL:https://www.kpacho.com/event/spanglish-sundays-a-brunch-fiesta-at-k-pacho/2027-06-20/
LOCATION:K. Pacho\, 1270 Union Turnpike\, New Hyde Park\, NY\, 11040\, United States
CATEGORIES:Weekly
ATTACH;FMTTYPE=image/jpeg:https://www.kpacho.com/wp-content/uploads/2025/03/1159d8f7-fd78-44d5-95e2-8dc9a1679b7a.jpg
GEO:40.7529;-73.6993
X-APPLE-STRUCTURED-LOCATION;VALUE=URI;X-ADDRESS=K. Pacho 1270 Union Turnpike New Hyde Park NY 11040 United States;X-APPLE-RADIUS=500;X-TITLE=1270 Union Turnpike:geo:-73.6993,40.7529
END:VEVENT
BEGIN:VEVENT
DTSTART;TZID=America/New_York:20270625T150000
DTEND;TZID=America/New_York:20270625T180000
DTSTAMP:20260420T040630
CREATED:20250827T230335Z
LAST-MODIFIED:20250916T234546Z
UID:30004186-1813935600-1813946400@www.kpacho.com
SUMMARY:K.Vida Loca at K. Pacho Every Friday
DESCRIPTION:
URL:https://www.kpacho.com/event/k-vida-loca-at-k-pacho-every-friday/2027-06-25/
LOCATION:K. Pacho\, 1270 Union Turnpike\, New Hyde Park\, NY\, 11040\, United States
CATEGORIES:Weekly
ATTACH;FMTTYPE=image/jpeg:https://www.kpacho.com/wp-content/uploads/2025/08/WhatsApp-Image-2025-08-27-at-14.47.58.jpeg
GEO:40.7529;-73.6993
X-APPLE-STRUCTURED-LOCATION;VALUE=URI;X-ADDRESS=K. Pacho 1270 Union Turnpike New Hyde Park NY 11040 United States;X-APPLE-RADIUS=500;X-TITLE=1270 Union Turnpike:geo:-73.6993,40.7529
END:VEVENT
BEGIN:VEVENT
DTSTART;TZID=America/New_York:20270627T120000
DTEND;TZID=America/New_York:20270627T160000
DTSTAMP:20260420T040630
CREATED:20250304T010014Z
LAST-MODIFIED:20250902T150143Z
UID:30001106-1814097600-1814112000@www.kpacho.com
SUMMARY:Spanglish Sundays A Brunch Fiesta at K. Pacho
DESCRIPTION:
URL:https://www.kpacho.com/event/spanglish-sundays-a-brunch-fiesta-at-k-pacho/2027-06-27/
LOCATION:K. Pacho\, 1270 Union Turnpike\, New Hyde Park\, NY\, 11040\, United States
CATEGORIES:Weekly
ATTACH;FMTTYPE=image/jpeg:https://www.kpacho.com/wp-content/uploads/2025/03/1159d8f7-fd78-44d5-95e2-8dc9a1679b7a.jpg
GEO:40.7529;-73.6993
X-APPLE-STRUCTURED-LOCATION;VALUE=URI;X-ADDRESS=K. Pacho 1270 Union Turnpike New Hyde Park NY 11040 United States;X-APPLE-RADIUS=500;X-TITLE=1270 Union Turnpike:geo:-73.6993,40.7529
END:VEVENT
BEGIN:VEVENT
DTSTART;TZID=America/New_York:20270702T150000
DTEND;TZID=America/New_York:20270702T180000
DTSTAMP:20260420T040630
CREATED:20250827T230335Z
LAST-MODIFIED:20250916T234546Z
UID:30004187-1814540400-1814551200@www.kpacho.com
SUMMARY:K.Vida Loca at K. Pacho Every Friday
DESCRIPTION:
URL:https://www.kpacho.com/event/k-vida-loca-at-k-pacho-every-friday/2027-07-02/
LOCATION:K. Pacho\, 1270 Union Turnpike\, New Hyde Park\, NY\, 11040\, United States
CATEGORIES:Weekly
ATTACH;FMTTYPE=image/jpeg:https://www.kpacho.com/wp-content/uploads/2025/08/WhatsApp-Image-2025-08-27-at-14.47.58.jpeg
GEO:40.7529;-73.6993
X-APPLE-STRUCTURED-LOCATION;VALUE=URI;X-ADDRESS=K. Pacho 1270 Union Turnpike New Hyde Park NY 11040 United States;X-APPLE-RADIUS=500;X-TITLE=1270 Union Turnpike:geo:-73.6993,40.7529
END:VEVENT
BEGIN:VEVENT
DTSTART;TZID=America/New_York:20270704T120000
DTEND;TZID=America/New_York:20270704T160000
DTSTAMP:20260420T040630
CREATED:20250304T010014Z
LAST-MODIFIED:20250902T150143Z
UID:30001107-1814702400-1814716800@www.kpacho.com
SUMMARY:Spanglish Sundays A Brunch Fiesta at K. Pacho
DESCRIPTION:
URL:https://www.kpacho.com/event/spanglish-sundays-a-brunch-fiesta-at-k-pacho/2027-07-04/
LOCATION:K. Pacho\, 1270 Union Turnpike\, New Hyde Park\, NY\, 11040\, United States
CATEGORIES:Weekly
ATTACH;FMTTYPE=image/jpeg:https://www.kpacho.com/wp-content/uploads/2025/03/1159d8f7-fd78-44d5-95e2-8dc9a1679b7a.jpg
GEO:40.7529;-73.6993
X-APPLE-STRUCTURED-LOCATION;VALUE=URI;X-ADDRESS=K. Pacho 1270 Union Turnpike New Hyde Park NY 11040 United States;X-APPLE-RADIUS=500;X-TITLE=1270 Union Turnpike:geo:-73.6993,40.7529
END:VEVENT
BEGIN:VEVENT
DTSTART;TZID=America/New_York:20270709T150000
DTEND;TZID=America/New_York:20270709T180000
DTSTAMP:20260420T040630
CREATED:20250827T230335Z
LAST-MODIFIED:20250916T234546Z
UID:30004188-1815145200-1815156000@www.kpacho.com
SUMMARY:K.Vida Loca at K. Pacho Every Friday
DESCRIPTION:
URL:https://www.kpacho.com/event/k-vida-loca-at-k-pacho-every-friday/2027-07-09/
LOCATION:K. Pacho\, 1270 Union Turnpike\, New Hyde Park\, NY\, 11040\, United States
CATEGORIES:Weekly
ATTACH;FMTTYPE=image/jpeg:https://www.kpacho.com/wp-content/uploads/2025/08/WhatsApp-Image-2025-08-27-at-14.47.58.jpeg
GEO:40.7529;-73.6993
X-APPLE-STRUCTURED-LOCATION;VALUE=URI;X-ADDRESS=K. Pacho 1270 Union Turnpike New Hyde Park NY 11040 United States;X-APPLE-RADIUS=500;X-TITLE=1270 Union Turnpike:geo:-73.6993,40.7529
END:VEVENT
BEGIN:VEVENT
DTSTART;TZID=America/New_York:20270711T120000
DTEND;TZID=America/New_York:20270711T160000
DTSTAMP:20260420T040630
CREATED:20250304T010014Z
LAST-MODIFIED:20250902T150143Z
UID:30001108-1815307200-1815321600@www.kpacho.com
SUMMARY:Spanglish Sundays A Brunch Fiesta at K. Pacho
DESCRIPTION:
URL:https://www.kpacho.com/event/spanglish-sundays-a-brunch-fiesta-at-k-pacho/2027-07-11/
LOCATION:K. Pacho\, 1270 Union Turnpike\, New Hyde Park\, NY\, 11040\, United States
CATEGORIES:Weekly
ATTACH;FMTTYPE=image/jpeg:https://www.kpacho.com/wp-content/uploads/2025/03/1159d8f7-fd78-44d5-95e2-8dc9a1679b7a.jpg
GEO:40.7529;-73.6993
X-APPLE-STRUCTURED-LOCATION;VALUE=URI;X-ADDRESS=K. Pacho 1270 Union Turnpike New Hyde Park NY 11040 United States;X-APPLE-RADIUS=500;X-TITLE=1270 Union Turnpike:geo:-73.6993,40.7529
END:VEVENT
BEGIN:VEVENT
DTSTART;TZID=America/New_York:20270716T150000
DTEND;TZID=America/New_York:20270716T180000
DTSTAMP:20260420T040630
CREATED:20250827T230335Z
LAST-MODIFIED:20250916T234546Z
UID:30004189-1815750000-1815760800@www.kpacho.com
SUMMARY:K.Vida Loca at K. Pacho Every Friday
DESCRIPTION:
URL:https://www.kpacho.com/event/k-vida-loca-at-k-pacho-every-friday/2027-07-16/
LOCATION:K. Pacho\, 1270 Union Turnpike\, New Hyde Park\, NY\, 11040\, United States
CATEGORIES:Weekly
ATTACH;FMTTYPE=image/jpeg:https://www.kpacho.com/wp-content/uploads/2025/08/WhatsApp-Image-2025-08-27-at-14.47.58.jpeg
GEO:40.7529;-73.6993
X-APPLE-STRUCTURED-LOCATION;VALUE=URI;X-ADDRESS=K. Pacho 1270 Union Turnpike New Hyde Park NY 11040 United States;X-APPLE-RADIUS=500;X-TITLE=1270 Union Turnpike:geo:-73.6993,40.7529
END:VEVENT
BEGIN:VEVENT
DTSTART;TZID=America/New_York:20270718T120000
DTEND;TZID=America/New_York:20270718T160000
DTSTAMP:20260420T040630
CREATED:20250304T010014Z
LAST-MODIFIED:20250902T150143Z
UID:30001109-1815912000-1815926400@www.kpacho.com
SUMMARY:Spanglish Sundays A Brunch Fiesta at K. Pacho
DESCRIPTION:
URL:https://www.kpacho.com/event/spanglish-sundays-a-brunch-fiesta-at-k-pacho/2027-07-18/
LOCATION:K. Pacho\, 1270 Union Turnpike\, New Hyde Park\, NY\, 11040\, United States
CATEGORIES:Weekly
ATTACH;FMTTYPE=image/jpeg:https://www.kpacho.com/wp-content/uploads/2025/03/1159d8f7-fd78-44d5-95e2-8dc9a1679b7a.jpg
GEO:40.7529;-73.6993
X-APPLE-STRUCTURED-LOCATION;VALUE=URI;X-ADDRESS=K. Pacho 1270 Union Turnpike New Hyde Park NY 11040 United States;X-APPLE-RADIUS=500;X-TITLE=1270 Union Turnpike:geo:-73.6993,40.7529
END:VEVENT
BEGIN:VEVENT
DTSTART;TZID=America/New_York:20270723T150000
DTEND;TZID=America/New_York:20270723T180000
DTSTAMP:20260420T040630
CREATED:20250827T230335Z
LAST-MODIFIED:20250916T234546Z
UID:30004190-1816354800-1816365600@www.kpacho.com
SUMMARY:K.Vida Loca at K. Pacho Every Friday
DESCRIPTION:
URL:https://www.kpacho.com/event/k-vida-loca-at-k-pacho-every-friday/2027-07-23/
LOCATION:K. Pacho\, 1270 Union Turnpike\, New Hyde Park\, NY\, 11040\, United States
CATEGORIES:Weekly
ATTACH;FMTTYPE=image/jpeg:https://www.kpacho.com/wp-content/uploads/2025/08/WhatsApp-Image-2025-08-27-at-14.47.58.jpeg
GEO:40.7529;-73.6993
X-APPLE-STRUCTURED-LOCATION;VALUE=URI;X-ADDRESS=K. Pacho 1270 Union Turnpike New Hyde Park NY 11040 United States;X-APPLE-RADIUS=500;X-TITLE=1270 Union Turnpike:geo:-73.6993,40.7529
END:VEVENT
BEGIN:VEVENT
DTSTART;TZID=America/New_York:20270725T120000
DTEND;TZID=America/New_York:20270725T160000
DTSTAMP:20260420T040630
CREATED:20250304T010014Z
LAST-MODIFIED:20250902T150143Z
UID:30001110-1816516800-1816531200@www.kpacho.com
SUMMARY:Spanglish Sundays A Brunch Fiesta at K. Pacho
DESCRIPTION:
URL:https://www.kpacho.com/event/spanglish-sundays-a-brunch-fiesta-at-k-pacho/2027-07-25/
LOCATION:K. Pacho\, 1270 Union Turnpike\, New Hyde Park\, NY\, 11040\, United States
CATEGORIES:Weekly
ATTACH;FMTTYPE=image/jpeg:https://www.kpacho.com/wp-content/uploads/2025/03/1159d8f7-fd78-44d5-95e2-8dc9a1679b7a.jpg
GEO:40.7529;-73.6993
X-APPLE-STRUCTURED-LOCATION;VALUE=URI;X-ADDRESS=K. Pacho 1270 Union Turnpike New Hyde Park NY 11040 United States;X-APPLE-RADIUS=500;X-TITLE=1270 Union Turnpike:geo:-73.6993,40.7529
END:VEVENT
BEGIN:VEVENT
DTSTART;TZID=America/New_York:20270730T150000
DTEND;TZID=America/New_York:20270730T180000
DTSTAMP:20260420T040630
CREATED:20250827T230335Z
LAST-MODIFIED:20250916T234546Z
UID:30004191-1816959600-1816970400@www.kpacho.com
SUMMARY:K.Vida Loca at K. Pacho Every Friday
DESCRIPTION:
URL:https://www.kpacho.com/event/k-vida-loca-at-k-pacho-every-friday/2027-07-30/
LOCATION:K. Pacho\, 1270 Union Turnpike\, New Hyde Park\, NY\, 11040\, United States
CATEGORIES:Weekly
ATTACH;FMTTYPE=image/jpeg:https://www.kpacho.com/wp-content/uploads/2025/08/WhatsApp-Image-2025-08-27-at-14.47.58.jpeg
GEO:40.7529;-73.6993
X-APPLE-STRUCTURED-LOCATION;VALUE=URI;X-ADDRESS=K. Pacho 1270 Union Turnpike New Hyde Park NY 11040 United States;X-APPLE-RADIUS=500;X-TITLE=1270 Union Turnpike:geo:-73.6993,40.7529
END:VEVENT
BEGIN:VEVENT
DTSTART;TZID=America/New_York:20270801T120000
DTEND;TZID=America/New_York:20270801T160000
DTSTAMP:20260420T040630
CREATED:20250304T010014Z
LAST-MODIFIED:20250902T150143Z
UID:30001111-1817121600-1817136000@www.kpacho.com
SUMMARY:Spanglish Sundays A Brunch Fiesta at K. Pacho
DESCRIPTION:
URL:https://www.kpacho.com/event/spanglish-sundays-a-brunch-fiesta-at-k-pacho/2027-08-01/
LOCATION:K. Pacho\, 1270 Union Turnpike\, New Hyde Park\, NY\, 11040\, United States
CATEGORIES:Weekly
ATTACH;FMTTYPE=image/jpeg:https://www.kpacho.com/wp-content/uploads/2025/03/1159d8f7-fd78-44d5-95e2-8dc9a1679b7a.jpg
GEO:40.7529;-73.6993
X-APPLE-STRUCTURED-LOCATION;VALUE=URI;X-ADDRESS=K. Pacho 1270 Union Turnpike New Hyde Park NY 11040 United States;X-APPLE-RADIUS=500;X-TITLE=1270 Union Turnpike:geo:-73.6993,40.7529
END:VEVENT
BEGIN:VEVENT
DTSTART;TZID=America/New_York:20270806T150000
DTEND;TZID=America/New_York:20270806T180000
DTSTAMP:20260420T040630
CREATED:20250827T230335Z
LAST-MODIFIED:20250916T234546Z
UID:30004192-1817564400-1817575200@www.kpacho.com
SUMMARY:K.Vida Loca at K. Pacho Every Friday
DESCRIPTION:
URL:https://www.kpacho.com/event/k-vida-loca-at-k-pacho-every-friday/2027-08-06/
LOCATION:K. Pacho\, 1270 Union Turnpike\, New Hyde Park\, NY\, 11040\, United States
CATEGORIES:Weekly
ATTACH;FMTTYPE=image/jpeg:https://www.kpacho.com/wp-content/uploads/2025/08/WhatsApp-Image-2025-08-27-at-14.47.58.jpeg
GEO:40.7529;-73.6993
X-APPLE-STRUCTURED-LOCATION;VALUE=URI;X-ADDRESS=K. Pacho 1270 Union Turnpike New Hyde Park NY 11040 United States;X-APPLE-RADIUS=500;X-TITLE=1270 Union Turnpike:geo:-73.6993,40.7529
END:VEVENT
BEGIN:VEVENT
DTSTART;TZID=America/New_York:20270808T120000
DTEND;TZID=America/New_York:20270808T160000
DTSTAMP:20260420T040630
CREATED:20250304T010014Z
LAST-MODIFIED:20250902T150143Z
UID:30001112-1817726400-1817740800@www.kpacho.com
SUMMARY:Spanglish Sundays A Brunch Fiesta at K. Pacho
DESCRIPTION:
URL:https://www.kpacho.com/event/spanglish-sundays-a-brunch-fiesta-at-k-pacho/2027-08-08/
LOCATION:K. Pacho\, 1270 Union Turnpike\, New Hyde Park\, NY\, 11040\, United States
CATEGORIES:Weekly
ATTACH;FMTTYPE=image/jpeg:https://www.kpacho.com/wp-content/uploads/2025/03/1159d8f7-fd78-44d5-95e2-8dc9a1679b7a.jpg
GEO:40.7529;-73.6993
X-APPLE-STRUCTURED-LOCATION;VALUE=URI;X-ADDRESS=K. Pacho 1270 Union Turnpike New Hyde Park NY 11040 United States;X-APPLE-RADIUS=500;X-TITLE=1270 Union Turnpike:geo:-73.6993,40.7529
END:VEVENT
BEGIN:VEVENT
DTSTART;TZID=America/New_York:20270813T150000
DTEND;TZID=America/New_York:20270813T180000
DTSTAMP:20260420T040630
CREATED:20250827T230335Z
LAST-MODIFIED:20250916T234546Z
UID:30004193-1818169200-1818180000@www.kpacho.com
SUMMARY:K.Vida Loca at K. Pacho Every Friday
DESCRIPTION:
URL:https://www.kpacho.com/event/k-vida-loca-at-k-pacho-every-friday/2027-08-13/
LOCATION:K. Pacho\, 1270 Union Turnpike\, New Hyde Park\, NY\, 11040\, United States
CATEGORIES:Weekly
ATTACH;FMTTYPE=image/jpeg:https://www.kpacho.com/wp-content/uploads/2025/08/WhatsApp-Image-2025-08-27-at-14.47.58.jpeg
GEO:40.7529;-73.6993
X-APPLE-STRUCTURED-LOCATION;VALUE=URI;X-ADDRESS=K. Pacho 1270 Union Turnpike New Hyde Park NY 11040 United States;X-APPLE-RADIUS=500;X-TITLE=1270 Union Turnpike:geo:-73.6993,40.7529
END:VEVENT
BEGIN:VEVENT
DTSTART;TZID=America/New_York:20270815T120000
DTEND;TZID=America/New_York:20270815T160000
DTSTAMP:20260420T040630
CREATED:20250304T010014Z
LAST-MODIFIED:20250902T150143Z
UID:30001113-1818331200-1818345600@www.kpacho.com
SUMMARY:Spanglish Sundays A Brunch Fiesta at K. Pacho
DESCRIPTION:
URL:https://www.kpacho.com/event/spanglish-sundays-a-brunch-fiesta-at-k-pacho/2027-08-15/
LOCATION:K. Pacho\, 1270 Union Turnpike\, New Hyde Park\, NY\, 11040\, United States
CATEGORIES:Weekly
ATTACH;FMTTYPE=image/jpeg:https://www.kpacho.com/wp-content/uploads/2025/03/1159d8f7-fd78-44d5-95e2-8dc9a1679b7a.jpg
GEO:40.7529;-73.6993
X-APPLE-STRUCTURED-LOCATION;VALUE=URI;X-ADDRESS=K. Pacho 1270 Union Turnpike New Hyde Park NY 11040 United States;X-APPLE-RADIUS=500;X-TITLE=1270 Union Turnpike:geo:-73.6993,40.7529
END:VEVENT
END:VCALENDAR